Workbook
Name _Hlk107580921: 'Cluster 8'!$A$14
Name _Hlk107582156: 'Cluster 7'!#REF!
Name _Hlk107885903: 'Cluster 2'!#REF!
Name _Hlk107890550: 'Cluster 9'!#REF!

Sheet Cluster 1
A2: NAME OF THE COMPANY
A3: BID NUMBER | B3: DSDP 05/25-19/25
A4: Company Registration No
A6: CLUSTER 1
A8: Polokwane Welfare Complex
A9: Day Shift
A10: Description | B10: No of Guards | C10: Rate Per guard | D10: Sub -Total | E10: 15% Vat | F10: Total Price
A11: Armed Security Guard | B11: 5 | D11: =B11*C11 -> 0 | E11: =D11*15% -> 0 | F11: =D11+E11 -> 0
A12: Unarmed Security Guard | B12: 12 | D12: =B12*C12 -> 0 | E12: =D12*15% -> 0 | F12: =D12+E12 -> 0
A13: Night Shift
A14: Armed Security Guard | B14: 5 | D14: =B14*C14 -> 0 | E14: =D14*15% -> 0 | F14: =D14+E14 -> 0
A15: Unarmed Security Guard | B15: 12 | D15: =B15*C15 -> 0 | E15: =D15*15% -> 0 | F15: =D15+E15 -> 0
A16: Total per month | B16: =B11+B12+B14+B15 -> 34 | F16: =F11+F12+F14+F15 -> 0
A17: Sekutupu Old Age Home
A19: Day Shift
A20: Description | B20: No of Guards | C20: Rate Per guard | D20: Total | E20: 15% vat | F20: Total Price
A21: Armed Security Guard | B21: 2 | D21: =B21*C21 -> 0 | E21: =D21*15% -> 0 | F21: =D21+E21 -> 0
A22: Unarmed Security Guard | B22: 2 | D22: =B22*C22 -> 0 | E22: =D22*15% -> 0 | F22: =D22+E22 -> 0
A23: Night Shift
A24: Armed Security Guard | B24: 2 | D24: =B24*C24 -> 0 | E24: =D24*15% -> 0 | F24: =D24+E24 -> 0
A25: Unarmed Security Guard | B25: 2 | D25: =B25*C25 -> 0 | E25: =D25*15% -> 0 | F25: =D25+E25 -> 0
A26: Total per month | B26: =B21+B22+B24+B25 -> 8 | F26: =F21+F22+F24+F25 -> 0
A27: TOTAL CLUSTER ONE BID PRICE | F27: =F26+F16 -> 0

Sheet Cluster 2
A1: NAME OF THE COMPANY
A2: BID NUMBER | B2: DSDP 05/25-19/25
A3: Company Registration No
A4: CLUSTER 2
A5: Andrew Mehlape One-Stop Centre
A6: Day Shift
A7: Description | B7: No of Guards | C7: Rate Per guard | D7: Sub -Total | E7: 15% Vat | F7: Total Price
A8: Armed Security Guard | B8: 1 | D8: =B8*C8 -> 0 | E8: =D8*15% -> 0 | F8: =D8+E8 -> 0
A9: Unarmed Security Guard | B9: 1 | D9: =B9*C9 -> 0 | E9: =D9*15% -> 0 | F9: =D9+E9 -> 0
A10: Night Shift
A11: Armed Security Guard | B11: 1 | D11: =B11*C11 -> 0 | E11: =D11*15% -> 0 | F11: =D11+E11 -> 0
A12: Unarmed Security Guard | B12: 1 | D12: =B12*C12 -> 0 | E12: =D12*15% -> 0 | F12: =D12+E12 -> 0
A13: Total per month | B13: 4 | F13: =F8+F9+F11+F12 -> 0
A14: Lebowakgomo Studio 2
A15: Day Shift
A16: Description | B16: No of Guards | C16: Rate Per guard | D16: Sub -Total | E16: 15% Vat | F16: Total Price
A17: Armed Security Guard | B17: 1 | D17: =B17*C17 -> 0 | E17: =D17*15% -> 0 | F17: =D17+E17 -> 0
A18: Unarmed Security Guard | B18: 2 | D18: =B18*C18 -> 0 | E18: =D18*15% -> 0 | F18: =D18+E18 -> 0
A19: Night Shift
A20: Armed Security Guard | B20: 1 | D20: =B20*C20 -> 0 | E20: =D20*15% -> 0 | F20: =D20+E20 -> 0
A21: Unarmed Security Guard | B21: 2 | D21: =B21*C21 -> 0 | E21: =D21*15% -> 0 | F21: =D21+E21 -> 0
A22: Total per month | B22: 6 | F22: =F17+F18+F20+F21 -> 0
A23: Buffelshoek One Stop Centre
A24: Day Shift
A25: Description | B25: No of Guards | E25: 15% Vat | F25: Total Price
A26: Armed Security Guard | B26: 1 | D26: =B26*C26 -> 0 | E26: =D26*15% -> 0 | F26: =D26+E26 -> 0
A27: Unarmed Security Guard | B27: 1 | D27: =B27*C27 -> 0 | E27: =D27*15% -> 0 | F27: =D27+E27 -> 0
A28: Night Shift
A29: Armed Security Guard | B29: 1 | D29: =B29*C29 -> 0 | E29: =D29*15% -> 0 | F29: =D29+E29 -> 0
A30: Unarmed Security Guard | B30: 1 | D30: =B30*C30 -> 0 | E30: =D30*15% -> 0 | F30: =D30+E30 -> 0
A31: Total per month | B31: 4 | F31: =F26+F27+F29+F30 -> 0
A32: Senwabarwana One-Stop Centre
A33: Day Shift
A34: Description | B34: No of Guards | C34: Rate Per guard | D34: Sub -Total | E34: 15% Vat | F34: Total Price
A35: Armed Security Guard | B35: 1 | D35: =B35*C35 -> 0 | E35: =D35*15% -> 0 | F35: =D35+E35 -> 0
A36: Unarmed Security Guard | B36: 2 | D36: =B36*C36 -> 0 | E36: =D36*15% -> 0 | F36: =D36+E36 -> 0
A37: Night Shift
A38: Armed Security Guard | B38: 1 | D38: =B38*C38 -> 0 | E38: =D38*15% -> 0 | F38: =D38+E38 -> 0
A39: Unarmed Security Guard | B39: 1 | D39: =B39*C39 -> 0 | E39: =D39*15% -> 0 | F39: =D39+E39 -> 0
A40: Total per month | B40: 5 | F40: =F35+F36+F38+F39 -> 0
...

Sheet cluster 3
A1: Name of the Company
A2: Bid Number | B2: DSDP 05/25-19/25
A3: Company Registration No
A4: CLUSTER 3
A5: Maelula One-Stop-Centre
A6: Day Shift
A7: Description | B7: No of Guards | C7: Rate Per guard | D7: Sub -Total | E7: 15% Vat | F7: Total Price
A8: Armed Security Guard | B8: 1 | D8: =B8*C8 -> 0 | E8: =D8*15% -> 0 | F8: =D8+E8 -> 0
A9: Unarmed Security Guard | B9: 1 | D9: =B9*C9 -> 0 | E9: =D9*15% -> 0 | F9: =D9+E9 -> 0
A10: Night Shift
A11: Armed Security Guard | B11: 1 | D11: =B11*C11 -> 0 | E11: =D11*15% -> 0 | F11: =D11+E11 -> 0
A12: Unarmed Security Guard | B12: 1 | D12: =B12*C12 -> 0 | E12: =D12*15% -> 0 | F12: =D12+E12 -> 0
A13: Total per month | B13: 4 | F13: =F8+F9+F11+F12 -> 0
A14: Rabali One-Stop-Centre
A15: Day Shift
A16: Description | B16: No of Guards | C16: Rate Per guard | D16: Sub -Total | E16: 15% Vat | F16: Total Price
A17: Armed Security Guard | B17: 1 | D17: =B17*C17 -> 0 | E17: =D17*15% -> 0 | F17: =D17+E17 -> 0
A18: Unarmed Security Guard | B18: 1 | D18: =B18*C18 -> 0 | E18: =D18*15% -> 0 | F18: =D18+E18 -> 0
A19: Night Shift
A20: Armed Security Guard | B20: 1 | D20: =B20*C20 -> 0 | E20: =D20*15% -> 0 | F20: =D20+E20 -> 0
A21: Unarmed Security Guard | B21: 1 | D21: =B21*C21 -> 0 | E21: =D21*15% -> 0 | F21: =D21+E21 -> 0
A22: Total per month | B22: 4 | F22: =F17+F18+F20+F21 -> 0
A23: Louis Trichardt Magistrate
A24: Day Shift
A25: Description | B25: No of Guards | C25: Rate Per guard | D25: Sub -Total | E25: 15% Vat | F25: Total Price
A26: Armed Security Guard | B26: 1 | D26: =B26*C26 -> 0 | E26: =D26*15% -> 0 | F26: =D26+E26 -> 0
A27: Unarmed Security Guard | B27: 1 | D27: =B27*C27 -> 0 | E27: =D27*15% -> 0 | F27: =D27+E27 -> 0
A28: Night Shift
A29: Armed Security Guard | B29: 1 | D29: =B29*C29 -> 0 | E29: =D29*15% -> 0 | F29: =D29+E29 -> 0
A30: Unarmed Security Guard | B30: 1 | D30: =B30*C30 -> 0 | E30: =D30*15% -> 0 | F30: =D30+E30 -> 0
A31: Total per month | B31: 4 | F31: =F26+F27+F29+F30 -> 0
A32: Tshitale One-Stop Centres
A33: Day Shift
A34: Description | B34: No of Guards | C34: Rate Per guard | D34: Sub -Total | E34: 15% Vat | F34: Total Price
A35: Armed Security Guard | B35: 1 | D35: =B35*C35 -> 0 | E35: =D35*15% -> 0 | F35: =D35+E35 -> 0
A36: Unarmed Security Guard | B36: 1 | D36: =B36*C36 -> 0 | E36: =D36*15% -> 0 | F36: =D36+E36 -> 0
A37: Night Shift
A38: Armed Security Guard | B38: 1 | D38: =B38*C38 -> 0 | E38: =D38*15% -> 0 | F38: =D38+E38 -> 0
A39: Unarmed Security Guard | B39: 1 | D39: =B39*C39 -> 0 | E39: =D39*15% -> 0 | F39: =D39+E39 -> 0
A40: Total per month | B40: 4 | F40: =F35+F36+F38+F39 -> 0
...

Sheet cluster 4
A1: Name of the Company
A2: Bid Number | B2: DSDP 05/25-19/25
A3: Company Registration No
A4: CLUSTER 4
A5: Seshego Treatment Centre
A6: Day Shift
A7: Description | B7: No of Guards | C7: Rate Per guard | D7: Sub -Total | E7: 15% Vat | F7: Total Price
A8: Armed Security Guard | B8: 3 | D8: =B8*C8 -> 0 | E8: =D8*15% -> 0 | F8: =D8+E8 -> 0
A9: Unarmed Security Guard | B9: 5 | D9: =B9*C9 -> 0 | E9: =D9*15% -> 0 | F9: =D9+E9 -> 0
A10: Night Shift
A11: Armed Security Guard | B11: 3 | D11: =B11*C11 -> 0 | E11: =D11*15% -> 0 | F11: =D11+E11 -> 0
A12: Unarmed Security Guard | B12: 5 | D12: =B12*C12 -> 0 | E12: =D12*15% -> 0 | F12: =D12+E12 -> 0
A13: Total per month | B13: =B8+B9+B11+B12 -> 16 | F13: =F8+F9+F11+F12 -> 0
A14: Seshego Zone 3 Welfare Office
A15: Day Shift
A16: Description | B16: No of Guards | C16: Rate Per guard | D16: Sub -Total | E16: 15% Vat | F16: Total Price
A17: Armed Security Guard | B17: 1 | D17: =B17*C17 -> 0 | E17: =D17*15% -> 0 | F17: =D17+E17 -> 0
A18: Unarmed Security Guard | B18: 1 | D18: =B18*C18 -> 0 | E18: =D18*15% -> 0 | F18: =D18+E18 -> 0
A19: Night Shift
A20: Armed Security Guard | B20: 1 | D20: =B20*C20 -> 0 | E20: =D20*15% -> 0 | F20: =D20+E20 -> 0
A21: Unarmed Security Guard | B21: 1 | D21: =B21*C21 -> 0 | E21: =D21*15% -> 0 | F21: =D21+E21 -> 0
A22: Total per month | B22: =B17+B18+B20+B21 -> 4 | F22: =F17+F18+F20+F21 -> 0
A23: Seshego One Stop Centre
A24: Day Shift
A25: Description | B25: No of Guards | C25: Rate Per guard | D25: Sub -Total | E25: 15% Vat | F25: Total Price
A26: Armed Security Guard | B26: 1 | D26: =B26*C26 -> 0 | E26: =D26*15% -> 0 | F26: =D26+E26 -> 0
A27: Unarmed Security Guard | B27: 1 | D27: =B27*C27 -> 0 | E27: =D27*15% -> 0 | F27: =D27+E27 -> 0
A28: Night Shift
A29: Armed Security Guard | B29: 1 | D29: =B29*C29 -> 0 | E29: =D29*15% -> 0 | F29: =D29+E29 -> 0
A30: Unarmed Security Guard | B30: 1 | D30: =B30*C30 -> 0 | E30: =D30*15% -> 0 | F30: =D30+E30 -> 0
A31: Total per month | B31: =B26+B27+B29+B30 -> 4 | F31: =F26+F27+F29+F30 -> 0
A32: Aganang One Stop Centre
A33: Day Shift
A34: Description | B34: No of Guards | C34: Rate Per guard | D34: Sub -Total | E34: 15% Vat | F34: Total Price
A35: Armed Security Guard | B35: 1 | D35: =B35*C35 -> 0 | E35: =D35*15% -> 0 | F35: =D35+E35 -> 0
A36: Unarmed Security Guard | B36: 2 | D36: =B36*C36 -> 0 | E36: =D36*15% -> 0 | F36: =D36+E36 -> 0
A37: Night Shift
A38: Armed Security Guard | B38: 1 | D38: =B38*C38 -> 0 | E38: =D38*15% -> 0 | F38: =D38+E38 -> 0
A39: Unarmed Security Guard | B39: 2 | D39: =B39*C39 -> 0 | E39: =D39*15% -> 0 | F39: =D39+E39 -> 0
A40: Total per month | B40: =B35+B36+B38+B39 -> 6 | F40: =F35+F36+F38+F39 -> 0
...

Sheet cluster 5
A1: Name of the Company
A2: Bid Number | B2: DSDP 05/25-19/25
A3: Company Registration No
A4: CLUSTER 5
A5: Unigaz Social Development Offices
A6: Day Shift
A7: Description | B7: No of Guards | C7: Rate Per guard | D7: Sub -Total | E7: 15% Vat | F7: Total Price
A8: Armed Security Guard | B8: 1 | D8: =B8*C8 -> 0 | E8: =D8*15% -> 0 | F8: =D8+E8 -> 0
A9: Unarmed Security Guard | B9: 1 | D9: =B9*C9 -> 0 | E9: =D9*15% -> 0 | F9: =D9+E9 -> 0
A10: Night Shift
A11: Armed Security Guard | B11: 1 | D11: =B11*C11 -> 0 | E11: =D11*15% -> 0 | F11: =D11+E11 -> 0
A12: Unarmed Security Guard | B12: 1 | D12: =B12*C12 -> 0 | E12: =D12*15% -> 0 | F12: =D12+E12 -> 0
A13: Total per month | B13: 4 | F13: =F8+F9+F11+F12 -> 0
A14: Giyani One-Stop Centre
A15: Day Shift
A16: Description | B16: No of Guards | C16: Rate Per guard | D16: Sub -Total | E16: 15% Vat | F16: Total Price
A17: Armed Security Guard | B17: 1 | D17: =B17*C17 -> 0 | E17: =D17*15% -> 0 | F17: =D17+E17 -> 0
A18: Unarmed Security Guard | B18: 1 | D18: =B18*C18 -> 0 | E18: =D18*15% -> 0 | F18: =D18+E18 -> 0
A19: Night Shift
A20: Armed Security Guard | B20: 1 | D20: =B20*C20 -> 0 | E20: =D20*15% -> 0 | F20: =D20+E20 -> 0
A21: Unarmed Security Guard | B21: 1 | D21: =B21*C21 -> 0 | E21: =D21*15% -> 0 | F21: =D21+E21 -> 0
A22: Total per month | B22: 4 | F22: =F17+F18+F20+F21 -> 0
A23: Iris Home Child and Youth Care Centre
A24: Day Shift
A25: Description | B25: No of Guards | C25: Rate Per guard | D25: Sub -Total | E25: 15% Vat | F25: Total Price
A26: Armed Security Guard | B26: 1 | D26: =B26*C26 -> 0 | E26: =D26*15% -> 0 | F26: =D26+E26 -> 0
A27: Unarmed Security Guard | B27: 2 | D27: =B27*C27 -> 0 | E27: =D27*15% -> 0 | F27: =D27+E27 -> 0
A28: Night Shift
A29: Armed Security Guard | B29: 1 | D29: =B29*C29 -> 0 | E29: =D29*15% -> 0 | F29: =D29+E29 -> 0
A30: Unarmed Security Guard | B30: 2 | D30: =B30*C30 -> 0 | E30: =D30*15% -> 0 | F30: =D30+E30 -> 0
A31: Total per month | B31: =B26+B27+B29+B30 -> 6 | F31: =F26+F27+F29+F30 -> 0
A32: Ndindani Community Care Centre
A33: Day Shift
A34: Description | B34: No of Guards | C34: Rate Per guard | D34: Sub -Total | E34: 15% Vat | F34: Total Price
A35: Armed Security Guard | B35: 1 | D35: =B35*C35 -> 0 | E35: =D35*15% -> 0 | F35: =D35+E35 -> 0
A36: Unarmed Security Guard | B36: 1 | D36: =B36*C36 -> 0 | E36: =D36*15% -> 0 | F36: =D36+E36 -> 0
A37: Night Shift
A38: Armed Security Guard | B38: 1 | D38: =B38*C38 -> 0 | E38: =D38*15% -> 0 | F38: =D38+E38 -> 0
A39: Unarmed Security Guard | B39: 1 | D39: =B39*C39 -> 0 | E39: =D39*15% -> 0 | F39: =D39+E39 -> 0
A40: Total per month | B40: 4 | F40: =F35+F36+F38+F39 -> 0
...

Sheet Cluster 6
A1: Name of the Company
A2: Bid Number | B2: DSDP 05/25-19/25
A3: Company Registration No
A4: CLUSTER 4
A5: Schoonoord One Stop Centre
A6: Day Shift
A7: Description | B7: No of Guards | C7: Rate Per guard | D7: Sub -Total | E7: 15% Vat | F7: Total Price
A8: Armed Security Guard | B8: 1 | D8: =B8*C8 -> 0 | E8: =D8*15% -> 0 | F8: =D8+E8 -> 0
A9: Unarmed Security Guard | B9: 1 | D9: =B9*C9 -> 0 | E9: =D9*15% -> 0 | F9: =D9+E9 -> 0
A10: Night Shift
A11: Armed Security Guard | B11: 1 | D11: =B11*C11 -> 0 | E11: =D11*15% -> 0 | F11: =D11+E11 -> 0
A12: Unarmed Security Guard | B12: 1 | D12: =B12*C12 -> 0 | E12: =D12*15% -> 0 | F12: =D12+E12 -> 0
A13: Total per month | B13: 4 | F13: =F8+F9+F11+F12 -> 0
A14: Jane Furse One-Stop Centre
A15: Day Shift
A16: Description | B16: No of Guards | C16: Rate Per guard | D16: Sub -Total | E16: 15% Vat | F16: Total Price
A17: Armed Security Guard | B17: 1 | D17: =B17*C17 -> 0 | E17: =D17*15% -> 0 | F17: =D17+E17 -> 0
A18: Unarmed Security Guard | B18: 1 | D18: =B18*C18 -> 0 | E18: =D18*15% -> 0 | F18: =D18+E18 -> 0
A19: Night Shift
A20: Armed Security Guard | B20: 1 | D20: =B20*C20 -> 0 | E20: =D20*15% -> 0 | F20: =D20+E20 -> 0
A21: Unarmed Security Guard | B21: 1 | D21: =B21*C21 -> 0 | E21: =D21*15% -> 0 | F21: =D21+E21 -> 0
A22: Total per month | B22: 4 | F22: =F17+F18+F20+F21 -> 0
A23: Mphanama One-Stop Centre
A25: Day Shift
A26: Description | B26: No of Guards | C26: Rate Per guard | D26: Sub -Total | E26: 15% Vat | F26: Total Price
A27: Armed Security Guard | B27: 1 | D27: =B27*C27 -> 0 | E27: =D27*15% -> 0 | F27: =D27+E27 -> 0
A28: Unarmed Security Guard | B28: 1 | D28: =B28*C28 -> 0 | E28: =D28*15% -> 0 | F28: =D28+E28 -> 0
A29: Night Shift
A30: Armed Security Guard | B30: 1 | D30: =B30*C30 -> 0 | E30: =D30*15% -> 0 | F30: =D30+E30 -> 0
A31: Unarmed Security Guard | B31: 1 | D31: =B31*C31 -> 0 | E31: =D31*15% -> 0 | F31: =D31+E31 -> 0
A32: Total per month | B32: 4 | F32: =F27+F28+F30+F31 -> 0
A33: Fetakgomo One-Stop Centre
A35: Day Shift
A36: Description | B36: No of Guards | C36: Rate Per guard | D36: Sub -Total | E36: 15% Vat | F36: Total Price
A37: Armed Security Guard | B37: 1 | D37: =B37*C37 -> 0 | E37: =D37*15% -> 0 | F37: =D37+E37 -> 0
A38: Unarmed Security Guard | B38: 2 | D38: =B38*C38 -> 0 | E38: =D38*15% -> 0 | F38: =D38+E38 -> 0
A39: Night Shift
A40: Armed Security Guard | B40: 1 | D40: =B40*C40 -> 0 | E40: =D40*15% -> 0 | F40: =D40+E40 -> 0
A41: Unarmed Security Guard | B41: 2 | D41: =B41*C41 -> 0 | E41: =D41*15% -> 0 | F41: =D41+E41 -> 0
A42: Total per month | B42: =B37+B38+B40+B41 -> 6 | F42: =F37+F38+F40+F41 -> 0
...

Sheet Cluster 7
A1: Name of the Company
A2: Bid Number | B2: DSDP 05/25-19/25
A3: Company Registration No
A4: CLUSTER 4
A5: Matsepe One Stop Centre
A6: Day Shift
A7: Description | B7: No of Guards | C7: Rate Per guard | D7: Sub -Total | E7: 15% Vat | F7: Total Price
A8: Armed Security Guard | B8: 1 | D8: =B8*C8 -> 0 | E8: =D8*15% -> 0 | F8: =D8+E8 -> 0
A9: Unarmed Security Guard | B9: 1 | D9: =B9*C9 -> 0 | E9: =D9*15% -> 0 | F9: =D9+E9 -> 0
A10: Night Shift
A11: Armed Security Guard | B11: 1 | D11: =B11*C11 -> 0 | E11: =D11*15% -> 0 | F11: =D11+E11 -> 0
A12: Unarmed Security Guard | B12: 1 | D12: =B12*C12 -> 0 | E12: =D12*15% -> 0 | F12: =D12+E12 -> 0
A13: Total per month | B13: 4 | F13: =F8+F9+F11+F12 -> 0
A14: Sempupuru Cluster Office
A15: Day Shift
A16: Description | B16: No of Guards | C16: Rate Per guard | D16: Sub -Total | E16: 15% Vat | F16: Total Price
A17: Armed Security Guard | B17: 1 | D17: =B17*C17 -> 0 | E17: =D17*15% -> 0 | F17: =D17+E17 -> 0
A18: Unarmed Security Guard | B18: 1 | D18: =B18*C18 -> 0 | E18: =D18*15% -> 0 | F18: =D18+E18 -> 0
A19: Night Shift
A20: Armed Security Guard | B20: 1 | D20: =B20*C20 -> 0 | E20: =D20*15% -> 0 | F20: =D20+E20 -> 0
A21: Unarmed Security Guard | B21: 1 | D21: =B21*C21 -> 0 | E21: =D21*15% -> 0 | F21: =D21+E21 -> 0
A22: Total per month | B22: 4 | F22: =F17+F18+F20+F21 -> 0
A23: Tsimanyana One-Stop Centre
A24: Day Shift
A25: Description | B25: No of Guards | C25: Rate Per guard | D25: Sub -Total | E25: 15% Vat | F25: Total Price
A26: Armed Security Guard | B26: 1 | D26: =B26*C26 -> 0 | E26: =D26*15% -> 0 | F26: =D26+E26 -> 0
A27: Unarmed Security Guard | B27: 1 | D27: =B27*C27 -> 0 | E27: =D27*15% -> 0 | F27: =D27+E27 -> 0
A28: Night Shift
A29: Armed Security Guard | B29: 1 | D29: =B29*C29 -> 0 | E29: =D29*15% -> 0 | F29: =D29+E29 -> 0
A30: Unarmed Security Guard | B30: 1 | D30: =B30*C30 -> 0 | E30: =D30*15% -> 0 | F30: =D30+E30 -> 0
A31: Total per month | B31: 4 | F31: =F26+F27+F29+F30 -> 0
A32: Zaaiplaas One-Stop Centre
A33: Day Shift
A34: Description | B34: No of Guards | C34: Rate Per guard | D34: Sub -Total | E34: 15% Vat | F34: Total Price
A35: Armed Security Guard | B35: 1 | D35: =B35*C35 -> 0 | E35: =D35*15% -> 0 | F35: =D35+E35 -> 0
A36: Unarmed Security Guard | B36: 1 | D36: =B36*C36 -> 0 | E36: =D36*15% -> 0 | F36: =D36+E36 -> 0
A37: Night Shift
A38: Armed Security Guard | B38: 1 | D38: =B38*C38 -> 0 | E38: =D38*15% -> 0 | F38: =D38+E38 -> 0
A39: Unarmed Security Guard | B39: 1 | D39: =B39*C39 -> 0 | E39: =D39*15% -> 0 | F39: =D39+E39 -> 0
A40: Total per month | B40: 4 | F40: =F35+F36+F38+F39 -> 0
...

Sheet Cluster 8
A1: Name of the Company
A2: Bid Number | B2: DSDP 05/25-19/25
A3: Company Registration No
A5: CLUSTER 8
A6: Woman Of Calvary
A7: Day Shift
A8: Description | B8: No of Guards | C8: Rate Per guard | D8: Sub -Total | E8: 15% Vat | F8: Total Price
A9: Unarmed Security Guard | B9: 1 | D9: =B9*C9 -> 0 | E9: =D9*15% -> 0 | F9: =D9+E9 -> 0
A10: Night Shift
A11: Armed Security Guard | B11: 1 | D11: =B11*C11 -> 0 | E11: =D11*15% -> 0 | F11: =D11+E11 -> 0
A12: Unarmed Security Guard | B12: 1 | D12: =B12*C12 -> 0 | E12: =D12*15% -> 0 | F12: =D12+E12 -> 0
A13: Total per month | B13: 3 | F13: =F9+F11+F12 -> 0
A14: Vuwani One-Stop Centre
A15: Day Shift
A16: Description | B16: No of Guards | C16: Rate Per guard | D16: Sub -Total | E16: 15% Vat | F16: Total Price
A17: Armed Security Guard | B17: 1 | D17: =B17*C17 -> 0 | E17: =D17*15% -> 0 | F17: =D17+E17 -> 0
A18: Unarmed Security Guard | B18: 1 | D18: =B18*C18 -> 0 | E18: =D18*15% -> 0 | F18: =D18+E18 -> 0
A19: Night Shift
A20: Armed Security Guard | B20: 1 | D20: =B20*C20 -> 0 | E20: =D20*15% -> 0 | F20: =D20+E20 -> 0
A21: Unarmed Security Guard | B21: 1 | D21: =B21*C21 -> 0 | E21: =D21*15% -> 0 | F21: =D21+E21 -> 0
A22: Total per month | B22: 4 | F22: =F17+F18+F20+F21 -> 0
A23: Mtsetweni Child And Youth Care Centre
A24: Day Shift
A25: Description | B25: No of Guards | C25: Rate Per guard | D25: Sub -Total | E25: 15% Vat | F25: Total Price
A26: Armed Security Guard | B26: 1 | D26: =B26*C26 -> 0 | E26: =D26*15% -> 0 | F26: =D26+E26 -> 0
A27: Unarmed Security Guard | B27: 3 | D27: =B27*C27 -> 0 | E27: =D27*15% -> 0 | F27: =D27+E27 -> 0
A28: Night Shift
A29: Armed Security Guard | B29: 1 | D29: =B29*C29 -> 0 | E29: =D29*15% -> 0 | F29: =D29+E29 -> 0
A30: Unarmed Security Guard | B30: 3 | D30: =B30*C30 -> 0 | E30: =D30*15% -> 0 | F30: =D30+E30 -> 0
A31: Total per month | B31: =B26+B27+B29+B30 -> 8 | F31: =F26+F27+F29+F30 -> 0
A32: Vleifontein One-Stop Centre
A33: Day Shift
A34: Description | B34: No of Guards | C34: Rate Per guard | D34: Sub -Total | E34: 15% Vat | F34: Total Price
A35: Armed Security Guard | B35: 1 | D35: =B35*C35 -> 0 | E35: =D35*15% -> 0 | F35: =D35+E35 -> 0
A36: Unarmed Security Guard | B36: 1 | D36: =B36*C36 -> 0 | E36: =D36*15% -> 0 | F36: =D36+E36 -> 0
A37: Night Shift
A38: Armed Security Guard | B38: 1 | D38: =B38*C38 -> 0 | E38: =D38*15% -> 0 | F38: =D38+E38 -> 0
A39: Unarmed Security Guard | B39: 1 | D39: =B39*C39 -> 0 | E39: =D39*15% -> 0 | F39: =D39+E39 -> 0
A40: Total per month | B40: 4 | F40: =F35+F36+F38+F39 -> 0
A41: Mamvuka Community Care Centre
...

Sheet Cluster 9
A1: Name of the Company
A2: Bid Number | B2: DSDP 05/25-19/25
A3: Company Registration No
A4: CLUSTER 9
A5: Thohoyandou Child and Youth Care Centre
A6: Day Shift
A7: Description | B7: No of Guards | C7: Rate Per guard | D7: Sub -Total | E7: 15% Vat | F7: Total Price
A8: Armed Security Guard | B8: 1 | D8: =B8*C8 -> 0 | E8: =D8*15% -> 0 | F8: =D8+E8 -> 0
A9: Unarmed Security Guard | B9: 3 | D9: =B9*C9 -> 0 | E9: =D9*15% -> 0 | F9: =D9+E9 -> 0
A10: Night Shift
A11: Armed Security Guard | B11: 1 | D11: =B11*C11 -> 0 | E11: =D11*15% -> 0 | F11: =D11+E11 -> 0
A12: Unarmed Security Guard | B12: 3 | D12: =B12*C12 -> 0 | E12: =D12*15% -> 0 | F12: =D12+E12 -> 0
A13: Total per month | B13: =B8+B9+B11+B12 -> 8 | F13: =F8+F9+F11+F12 -> 0
A14: Thohoyandou One-Stop Centre
A15: Day Shift
A16: Description | B16: No of Guards | C16: Rate Per guard | D16: Sub -Total | E16: 15% Vat | F16: Total Price
A17: Armed Security Guard | B17: 1 | D17: =B17*C17 -> 0 | E17: =D17*15% -> 0 | F17: =D17+E17 -> 0
A18: Unarmed Security Guard | B18: 1 | D18: =B18*C18 -> 0 | E18: =D18*15% -> 0 | F18: =D18+E18 -> 0
A19: Night Shift
A20: Armed Security Guard | B20: 1 | D20: =B20*C20 -> 0 | E20: =D20*15% -> 0 | F20: =D20+E20 -> 0
A21: Unarmed Security Guard | B21: 1 | D21: =B21*C21 -> 0 | E21: =D21*15% -> 0 | F21: =D21+E21 -> 0
A22: Total per month | B22: 4 | F22: =F17+F18+F20+F21 -> 0
A23: Tshidimbini One Stop-Centre
A24: Day Shift
A25: Description | B25: No of Guards | C25: Rate Per guard | D25: Sub -Total | E25: 15% Vat | F25: Total Price
A26: Armed Security Guard | B26: 1 | D26: =B26*C26 -> 0 | E26: =D26*15% -> 0 | F26: =D26+E26 -> 0
A27: Unarmed Security Guard | B27: 1 | D27: =B27*C27 -> 0 | E27: =D27*15% -> 0 | F27: =D27+E27 -> 0
A28: Night Shift
A29: Armed Security Guard | B29: 1 | D29: =B29*C29 -> 0 | E29: =D29*15% -> 0 | F29: =D29+E29 -> 0
A30: Unarmed Security Guard | B30: 1 | D30: =B30*C30 -> 0 | E30: =D30*15% -> 0 | F30: =D30+E30 -> 0
A31: Total per month | B31: 4 | F31: =F26+F27+F29+F30 -> 0
A32: Makwarela After School
A33: Day Shift
A34: Description | B34: No of Guards | C34: Rate Per guard | D34: Sub -Total | E34: 15% Vat | F34: Total Price
A35: Armed Security Guard | B35: 1 | D35: =B35*C35 -> 0 | E35: =D35*15% -> 0 | F35: =D35+E35 -> 0
A36: Unarmed Security Guard | B36: 1 | D36: =B36*C36 -> 0 | E36: =D36*15% -> 0 | F36: =D36+E36 -> 0
A37: Night Shift
A38: Armed Security Guard | B38: 1 | D38: =B38*C38 -> 0 | E38: =D38*15% -> 0 | F38: =D38+E38 -> 0
A39: Unarmed Security Guard | B39: 1 | D39: =B39*C39 -> 0 | E39: =D39*15% -> 0 | F39: =D39+E39 -> 0
A40: Total per month | B40: 4 | F40: =F35+F36+F38+F39 -> 0
...

Sheet Cluster 10
A1: Name of the Company
A2: Bid Number | B2: DSDP 05/25-19/25
A3: Company Registration No
A4: CLUSTER 10
A5: Mavambe Child And Youth Care Centre
A6: Day Shift
A7: Description | B7: No of Guards | C7: Rate Per guard | D7: Sub -Total | E7: 15% Vat | F7: Total Price
A8: Armed Security Guard | B8: 4 | D8: =B8*C8 -> 0 | E8: =D8*15% -> 0 | F8: =D8+E8 -> 0
A9: Unarmed Security Guard | B9: 8 | D9: =B9*C9 -> 0 | E9: =D9*15% -> 0 | F9: =D9+E9 -> 0
A10: Night Shift
A11: Armed Security Guard | B11: 4 | D11: =B11*C11 -> 0 | E11: =D11*15% -> 0 | F11: =D11+E11 -> 0
A12: Unarmed Security Guard | B12: 8 | D12: =B12*C12 -> 0 | E12: =D12*15% -> 0 | F12: =D12+E12 -> 0
A13: Total per month | B13: =B8+B9+B11+B12 -> 24 | F13: =F8+F9+F11+F12 -> 0
A14: TOTAL CLUSTER TEN(10) BID PRICE | F14: =F13 -> 0

Sheet Cluster 11
A1: Name of the Company
A2: Bid Number | B2: DSDP 05/25-19/25
A3: Company Registration No
A4: CLUSTER 11
A5: Sekhukhune District Office
A6: Day Shift
A7: Description | B7: No of Guards | C7: Rate Per guard | D7: Sub -Total | E7: 15% Vat | F7: Total Price
A8: Armed Security Guard | B8: 1 | D8: =B8*C8 -> 0 | E8: =D8*15% -> 0 | F8: =D8+E8 -> 0
A9: Unarmed Security Guard | B9: 1 | D9: =B9*C9 -> 0 | E9: =D9*15% -> 0 | F9: =D9+E9 -> 0
A10: Night Shift
A11: Armed Security Guard | B11: 1 | D11: =B11*C11 -> 0 | E11: =D11*15% -> 0 | F11: =D11+E11 -> 0
A12: Unarmed Security Guard | B12: 1 | D12: =B12*C12 -> 0 | E12: =D12*15% -> 0 | F12: =D12+E12 -> 0
A13: Total per month | B13: 4 | F13: =F8+F9+F11+F12 -> 0
A14: Tubatse Child And Youth Care Centre
A15: Day Shift
A16: Description | B16: No of Guards | C16: Rate Per guard | D16: Sub -Total | E16: 15% Vat | F16: Total Price
A17: Armed Security Guard | B17: 2 | D17: =B17*C17 -> 0 | E17: =D17*15% -> 0 | F17: =D17+E17 -> 0
A18: Unarmed Security Guard | B18: 2 | D18: =B18*C18 -> 0 | E18: =D18*15% -> 0 | F18: =D18+E18 -> 0
A19: Night Shift
A20: Armed Security Guard | B20: 2 | D20: =B20*C20 -> 0 | E20: =D20*15% -> 0 | F20: =D20+E20 -> 0
A21: Unarmed Security Guard | B21: 2 | D21: =B21*C21 -> 0 | E21: =D21*15% -> 0 | F21: =D21+E21 -> 0
A22: Total per month | B22: 8 | F22: =F17+F18+F20+F21 -> 0
A23: Praktiseer One-Stop Centre
A24: Day Shift
A25: Description | B25: No of Guards | C25: Rate Per guard | D25: Sub -Total | E25: 15% Vat | F25: Total Price
A26: Armed Security Guard | B26: 1 | D26: =B26*C26 -> 0 | E26: =D26*15% -> 0 | F26: =D26+E26 -> 0
A27: Unarmed Security Guard | B27: 1 | D27: =B27*C27 -> 0 | E27: =D27*15% -> 0 | F27: =D27+E27 -> 0
A28: Night Shift
A29: Armed Security Guard | B29: 1 | D29: =B29*C29 -> 0 | E29: =D29*15% -> 0 | F29: =D29+E29 -> 0
A30: Unarmed Security Guard | B30: 1 | D30: =B30*C30 -> 0 | E30: =D30*15% -> 0 | F30: =D30+E30 -> 0
A31: Total per month | B31: 4 | F31: =F26+F27+F29+F30 -> 0
A32: Phasha Selatole One-Stop Centre
A33: Day Shift
A34: Description | B34: No of Guards | C34: Rate Per guard | D34: Sub -Total | E34: 15% Vat | F34: Total Price
A35: Armed Security Guard | B35: 1 | D35: =B35*C35 -> 0 | E35: =D35*15% -> 0 | F35: =D35+E35 -> 0
A36: Unarmed Security Guard | B36: 1 | D36: =B36*C36 -> 0 | E36: =D36*15% -> 0 | F36: =D36+E36 -> 0
A37: Night Shift
A38: Armed Security Guard | B38: 1 | D38: =B38*C38 -> 0 | E38: =D38*15% -> 0 | F38: =D38+E38 -> 0
A39: Unarmed Security Guard | B39: 1 | D39: =B39*C39 -> 0 | E39: =D39*15% -> 0 | F39: =D39+E39 -> 0
A40: Total per month | B40: 4 | F40: =F35+F36+F38+F39 -> 0
...

Sheet Cluster 12
A1: Name of the Company
A2: Bid Number | B2: DSDP 05/25-19/25
A3: Company Registration No
A4: CLUSTER 12
A5: Phagameng One-Stop Centre
A6: Day Shift
A7: Description | B7: No of Guards | C7: Rate Per guard | D7: Sub -Total | E7: 15% Vat | F7: Total Price
A8: Armed Security Guards | B8: 1 | D8: =B8*C8 -> 0 | E8: =D8*15% -> 0 | F8: =D8+E8 -> 0
A9: Unarmed Security Guards | B9: 1 | D9: =B9*C9 -> 0 | E9: =D9*15% -> 0 | F9: =D9+E9 -> 0
A10: Night Shift
A11: Armed Security office | B11: 1 | D11: =B11*C11 -> 0 | E11: =D11*15% -> 0 | F11: =D11+E11 -> 0
A12: Unarmed Security Officer | B12: 1 | D12: =B12*C12 -> 0 | E12: =D12*15% -> 0 | F12: =D12+E12 -> 0
A13: Total per month | B13: 4 | F13: =F8+F9+F11+F12 -> 0
A14: Bela-Bela One-Stop Centre
A15: Day Shift
A16: Description | B16: No of Guards | C16: Rate Per guard | D16: Sub -Total | E16: 15% Vat | F16: Total Price
A17: Armed Security Guards | B17: 1 | D17: =B17*C17 -> 0 | E17: =D17*15% -> 0 | F17: =D17+E17 -> 0
A18: Unarmed Security Guards | B18: 1 | D18: =B18*C18 -> 0 | E18: =D18*15% -> 0 | F18: =D18+E18 -> 0
A19: Night Shift
A20: Armed Security office | B20: 1 | D20: =B20*C20 -> 0 | E20: =D20*15% -> 0 | F20: =D20+E20 -> 0
A21: Unarmed Security Officer | B21: 1 | D21: =B21*C21 -> 0 | E21: =D21*15% -> 0 | F21: =D21+E21 -> 0
A22: Total per month | B22: 4 | F22: =F17+F18+F20+F21 -> 0
A23: Mookgopong One Stop Centre
A24: Day Shift
A25: Description | B25: No of Guards | C25: Rate Per guard | D25: Sub -Total | E25: 15% Vat | F25: Total Price
A26: Armed Security Guards | B26: 1 | D26: =B26*C26 -> 0 | E26: =D26*15% -> 0 | F26: =D26+E26 -> 0
A27: Unarmed Security Guards | B27: 1 | D27: =B27*C27 -> 0 | E27: =D27*15% -> 0 | F27: =D27+E27 -> 0
A28: Night Shift
A29: Armed Security office | B29: 1 | D29: =B29*C29 -> 0 | E29: =D29*15% -> 0 | F29: =D29+E29 -> 0
A30: Unarmed Security Officer | B30: 1 | D30: =B30*C30 -> 0 | E30: =D30*15% -> 0 | F30: =D30+E30 -> 0
A31: Total per month | B31: 4 | F31: =F26+F27+F29+F30 -> 0
A32: Thabazimbi One Stop Centre
A33: Day Shift
A34: Description | B34: No of Guards | C34: Rate Per guard | D34: Sub -Total | E34: 15% Vat | F34: Total Price
A35: Armed Security Guards | B35: 1 | D35: =B35*C35 -> 0 | E35: =D35*15% -> 0 | F35: =D35+E35 -> 0
A36: Unarmed Security Guards | B36: 1 | D36: =B36*C36 -> 0 | E36: =D36*15% -> 0 | F36: =D36+E36 -> 0
A37: Night Shift
A38: Armed Security office | B38: 1 | D38: =B38*C38 -> 0 | E38: =D38*15% -> 0 | F38: =D38+E38 -> 0
A39: Unarmed Security Officer | B39: 1 | D39: =B39*C39 -> 0 | E39: =D39*15% -> 0 | F39: =D39+E39 -> 0
A40: Total per month | B40: 4 | F40: =F35+F36+F38+F39 -> 0
...

Sheet Cluster 13
A1: Name of the Company
A2: Bid Number | B2: DSDP 05/25-19/25
A3: Company Registration No
A4: CLUSTER 13
A5: Kgapane One-Stop Centre
A6: Day Shift
A7: Description | B7: No of Guards | C7: Rate Per guard | D7: Sub -Total | E7: 15% Vat | F7: Total Price
A8: Armed Security Guard | B8: 1 | D8: =B8*C8 -> 0 | E8: =D8*15% -> 0 | F8: =D8+E8 -> 0
A9: Unarmed Security Guard | B9: 1 | D9: =B9*C9 -> 0 | E9: =D9*15% -> 0 | F9: =D9+E9 -> 0
A10: Night Shift
A11: Armed Security Guard | B11: 1 | D11: =B11*C11 -> 0 | E11: =D11*15% -> 0 | F11: =D11+E11 -> 0
A12: Unarmed Security Guard | B12: 1 | D12: =B12*C12 -> 0 | E12: =D12*15% -> 0 | F12: =D12+E12 -> 0
A13: Total per month | B13: 4 | F13: =F8+F9+F11+F12 -> 0
A14: Lebaka Sub Offices
A15: Day Shift
A16: Description | B16: No of Guards | C16: Rate Per guard | D16: Sub -Total | E16: 15% Vat | F16: Total Price
A17: Armed Security Guard | B17: 1 | D17: =B17*C17 -> 0 | E17: =D17*15% -> 0 | F17: =D17+E17 -> 0
A18: Unarmed Security Guard | B18: 1 | D18: =B18*C18 -> 0 | E18: =D18*15% -> 0 | F18: =D18+E18 -> 0
A19: Night Shift
A20: Armed Security Guard | B20: 1 | D20: =B20*C20 -> 0 | E20: =D20*15% -> 0 | F20: =D20+E20 -> 0
A21: Unarmed Security Guard | B21: 1 | D21: =B21*C21 -> 0 | E21: =D21*15% -> 0 | F21: =D21+E21 -> 0
A22: Total per month | B22: 4 | F22: =F17+F18+F20+F21 -> 0
A23: Vukuzenzele Community Based Rehabilitation Centre
A24: Day Shift
A25: Description | B25: No of Guards | C25: Rate Per guard | D25: Sub -Total | E25: 15% Vat | F25: Total Price
A26: Armed Security Guard | B26: 1 | D26: =B26*C26 -> 0 | E26: =D26*15% -> 0 | F26: =D26+E26 -> 0
A27: Unarmed Security Guard | B27: 1 | D27: =B27*C27 -> 0 | E27: =D27*15% -> 0 | F27: =D27+E27 -> 0
A28: Night Shift
A29: Armed Security Guard | B29: 1 | D29: =B29*C29 -> 0 | E29: =D29*15% -> 0 | F29: =D29+E29 -> 0
A30: Unarmed Security Guard | B30: 1 | D30: =B30*C30 -> 0 | E30: =D30*15% -> 0 | F30: =D30+E30 -> 0
A31: Total per month | B31: 4 | F31: =F26+F27+F29+F30 -> 0
A32: Dr. CN Phatudi One-Stop Centre
A33: Day Shift
A34: Description | B34: No of Guards | C34: Rate Per guard | D34: Sub -Total | E34: 15% Vat | F34: Total Price
A35: Armed Security Guard | B35: 1 | D35: =B35*C35 -> 0 | E35: =D35*15% -> 0 | F35: =D35+E35 -> 0
A36: Unarmed Security Guard | B36: 1 | D36: =B36*C36 -> 0 | E36: =D36*15% -> 0 | F36: =D36+E36 -> 0
A37: Night Shift
A38: Armed Security Guard | B38: 1 | D38: =B38*C38 -> 0 | E38: =D38*15% -> 0 | F38: =D38+E38 -> 0
A39: Unarmed Security Guard | B39: 1 | D39: =B39*C39 -> 0 | E39: =D39*15% -> 0 | F39: =D39+E39 -> 0
A40: Total per month | B40: 4 | F40: =F35+F36+F38+F39 -> 0
...

Sheet Cluster 14
A1: Name of the Company
A2: Bid Number | B2: DSDP 05/25-19/25
A3: Company Registration No
A4: CLUSTER 14
A5: Bakenberg One-Stop Centre
A6: Day Shift
A7: Description | B7: No of Guards | C7: Rate Per guard | D7: Sub -Total | E7: 15% Vat | F7: Total Price
A8: Armed Security Guards | B8: 1 | D8: =B8*C8 -> 0 | E8: =D8*15% -> 0 | F8: =D8+E8 -> 0
A9: Unarmed Security Guards | B9: 1 | D9: =B9*C9 -> 0 | E9: =D9*15% -> 0 | F9: =D9+E9 -> 0
A10: Night Shift
A11: Armed Security office | B11: 1 | D11: =B11*C11 -> 0 | E11: =D11*15% -> 0 | F11: =D11+E11 -> 0
A12: Unarmed Security Officer | B12: 1 | D12: =B12*C12 -> 0 | E12: =D12*15% -> 0 | F12: =D12+E12 -> 0
A13: Total per month | B13: 4 | F13: =F8+F9+F11+F12 -> 0
A14: Lephalale Social Development Office
A15: Day Shift
A16: Description | B16: No of Guards | C16: Rate Per guard | D16: Sub -Total | E16: 15% Vat | F16: Total Price
A17: Armed Security Guards | B17: 1 | D17: =B17*C17 -> 0 | E17: =D17*15% -> 0 | F17: =D17+E17 -> 0
A18: Unarmed Security Guards | B18: 1 | D18: =B18*C18 -> 0 | E18: =D18*15% -> 0 | F18: =D18+E18 -> 0
A19: Night Shift
A20: Armed Security office | B20: 1 | D20: =B20*C20 -> 0 | E20: =D20*15% -> 0 | F20: =D20+E20 -> 0
A21: Unarmed Security Officer | B21: 1 | D21: =B21*C21 -> 0 | E21: =D21*15% -> 0 | F21: =D21+E21 -> 0
A22: Total per month | B22: 4 | F22: =F17+F18+F20+F21 -> 0
A23: Witpoort/Phalala One Stop Centre
A24: Day Shift
A25: Description | B25: No of Guards | C25: Rate Per guard | D25: Sub -Total | E25: 15% Vat | F25: Total Price
A26: Armed Security Guards | B26: 1 | D26: =B26*C26 -> 0 | E26: =D26*15% -> 0 | F26: =D26+E26 -> 0
A27: Unarmed Security Guards | B27: 1 | D27: =B27*C27 -> 0 | E27: =D27*15% -> 0 | F27: =D27+E27 -> 0
A28: Night Shift
A29: Armed Security office | B29: 1 | D29: =B29*C29 -> 0 | E29: =D29*15% -> 0 | F29: =D29+E29 -> 0
A30: Unarmed Security Officer | B30: 1 | D30: =B30*C30 -> 0 | E30: =D30*15% -> 0 | F30: =D30+E30 -> 0
A31: Total per month | B31: 4 | F31: =F26+F27+F29+F30 -> 0
A32: Taueatswala Community Care Centre
A33: Day Shift
A34: Description | B34: No of Guards | C34: Rate Per guard | D34: Sub -Total | E34: 15% Vat | F34: Total Price
A35: Armed Security Guards | B35: 1 | D35: =B35*C35 -> 0 | E35: =D35*15% -> 0 | F35: =D35+E35 -> 0
A36: Unarmed Security Guards | B36: 2 | D36: =B36*C36 -> 0 | E36: =D36*15% -> 0 | F36: =D36+E36 -> 0
A37: Night Shift
A38: Armed Security office | B38: 1 | D38: =B38*C38 -> 0 | E38: =D38*15% -> 0 | F38: =D38+E38 -> 0
A39: Unarmed Security Officer | B39: 2 | D39: =B39*C39 -> 0 | E39: =D39*15% -> 0 | F39: =D39+E39 -> 0
A40: Total per month | B40: =B35+B36+B38+B39 -> 6 | F40: =F35+F36+F38+F39 -> 0
...

Sheet Cluster 15
A1: Name of the Company
A2: Bid Number | B2: DSDP 05/25-19/25
A3: Company Registration No
A4: CLUSTER 15
A5: Namakgale One-Stop Centre
A6: Day Shift
A7: Description | B7: No of Guards | C7: Rate Per guard | D7: Sub -Total | E7: 15% Vat | F7: Total Price
A8: Armed Security Guard | B8: 1 | D8: =B8*C8 -> 0 | E8: =D8*15% -> 0 | F8: =D8+E8 -> 0
A9: Unarmed Security Guard | B9: 1 | D9: =B9*C9 -> 0 | E9: =D9*15% -> 0 | F9: =D9+E9 -> 0
A10: Night Shift
A11: Armed Security Guard | B11: 1 | D11: =B11*C11 -> 0 | E11: =D11*15% -> 0 | F11: =D11+E11 -> 0
A12: Unarmed Security Guard | B12: 1 | D12: =B12*C12 -> 0 | E12: =D12*15% -> 0 | F12: =D12+E12 -> 0
A13: Total per month | B13: 4 | F13: =F8+F9+F11+F12 -> 0
A14: Bonn Community Care Centre
A15: Day Shift
A16: Description | B16: No of Guards | C16: Rate Per guard | D16: Sub -Total | E16: 15% Vat | F16: Total Price
A17: Armed Security Guard | B17: 1 | D17: =B17*C17 -> 0 | E17: =D17*15% -> 0 | F17: =D17+E17 -> 0
A18: Unarmed Security Guard | B18: 1 | D18: =B18*C18 -> 0 | E18: =D18*15% -> 0 | F18: =D18+E18 -> 0
A19: Night Shift
A20: Armed Security Guard | B20: 1 | D20: =B20*C20 -> 0 | E20: =D20*15% -> 0 | F20: =D20+E20 -> 0
A21: Unarmed Security Guard | B21: 1 | D21: =B21*C21 -> 0 | E21: =D21*15% -> 0 | F21: =D21+E21 -> 0
A22: Total per month | B22: 4 | F22: =F17+F18+F20+F21 -> 0
A23: Senwamokgope Social Development Office
A24: Day Shift
A25: Description | B25: No of Guards | C25: Rate Per guard | D25: Sub -Total | E25: 15% Vat | F25: Total Price
A26: Armed Security Guard | B26: 1 | D26: =B26*C26 -> 0 | E26: =D26*15% -> 0 | F26: =D26+E26 -> 0
A27: Unarmed Security Guard | B27: 1 | D27: =B27*C27 -> 0 | E27: =D27*15% -> 0 | F27: =D27+E27 -> 0
A28: Night Shift
A29: Armed Security Guard | B29: 1 | D29: =B29*C29 -> 0 | E29: =D29*15% -> 0 | F29: =D29+E29 -> 0
A30: Unarmed Security Guard | B30: 1 | D30: =B30*C30 -> 0 | E30: =D30*15% -> 0 | F30: =D30+E30 -> 0
A31: Total per month | B31: 4 | F31: =F26+F27+F29+F30 -> 0
A32: Giyani Social Development Storeroom
A33: Day Shift
A34: Description | B34: No of Guards | C34: Rate Per guard | D34: Sub -Total | E34: 15% Vat | F34: Total Price
A35: Armed Security Guard | B35: 1 | D35: =B35*C35 -> 0 | E35: =D35*15% -> 0 | F35: =D35+E35 -> 0
A36: Unarmed Security Guard | B36: 1 | D36: =B36*C36 -> 0 | E36: =D36*15% -> 0 | F36: =D36+E36 -> 0
A37: Night Shift
A38: Armed Security Guard | B38: 1 | D38: =B38*C38 -> 0 | E38: =D38*15% -> 0 | F38: =D38+E38 -> 0
A39: Unarmed Security Guard | B39: 1 | D39: =B39*C39 -> 0 | E39: =D39*15% -> 0 | F39: =D39+E39 -> 0
A40: Total per month | B40: 4 | F40: =F35+F36+F38+F39 -> 0
...

Sheet Total bid price
A2: Name of the Company
A3: Bid Number | C3: DSDP 05/25-19/25
A4: Company Registration No
A5: No | B5: Cluster | C5: Bid Price
A6: 1 | B6: Cluster 1 Bid Price | C6: ='Cluster 1'!F27 -> 0
A7: 2 | B7: Cluster 2 Bid Price | C7: ='Cluster 2'!F77 -> 0
A8: 3 | B8: Cluster 3 Bid Price | C8: ='cluster 3'!F76 -> 0
A9: 4 | B9: Cluster 4 Bid Price | C9: ='cluster 4'!F41 -> 0
A10: 5 | B10: Cluster 5 Bid Price | C10: ='cluster 5'!F59 -> 0
A11: 6 | B11: Cluster 6 Bid Price | C11: ='Cluster 8'!F50 -> 0
A12: 7 | B12: Cluster 7 Bid Price | C12: ='Cluster 7'!F59 -> 0
A13: 8 | B13: Cluster 8 Bid Price | C13: ='Cluster 8'!F50 -> 0
A14: 9 | B14: Cluster 9 Bid Price | C14: ='Cluster 9'!F50 -> 0
A15: 10 | B15: Cluster 10 Bid Price | C15: ='Cluster 10'!F14 -> 0
A16: 11 | B16: Cluster 11 Bid Price | C16: ='Cluster 10'!F14 -> 0
A17: 12 | B17: Cluster 12 Bid Price | C17: ='Cluster 12'!F50 -> 0
A18: 13 | B18: Cluster 13 Bid Price | C18: ='Cluster 13'!F48 -> 0
A19: 14 | B19: Cluster 14 Bid Price | C19: ='Cluster 14'!F41 -> 0
A20: 15 | B20: Cluster 15 Bid Price | C20: ='Cluster 15'!F41 -> 0
A21: Total Bid Price | C21: =SUM(C6:C20) -> 0
