Workbook
Name _Hlk107580921: 'Cluster 8'!$A$14
Name _Hlk107582156: 'Cluster 7'!#REF!
Name _Hlk107885903: 'Cluster 2'!#REF!
Name _Hlk107890550: 'Cluster 9'!#REF!

Sheet Cluster 1
A2: NAME OF THE COMPANY
A3: BID NUMBER | B3: DSDP 05/25-19/25
A4: Company Registration No
A6: CLUSTER 1
A8: Polokwane Welfare Complex
A9: Day Shift
A10: Description | B10: No of Guards | C10: Rate Per guard | D10: Sub -Total | E10: 15% Vat | F10: Total Price
A11: Armed Security Guard | B11: 5 | D11: =B11*C11 -> 0 | E11: =D11*15% -> 0 | F11: =D11+E11 -> 0
A12: Unarmed Security Guard | B12: 12 | D12: =B12*C12 -> 0 | E12: =D12*15% -> 0 | F12: =D12+E12 -> 0
A13: Night Shift
A14: Armed Security Guard | B14: 5 | D14: =B14*C14 -> 0 | E14: =D14*15% -> 0 | F14: =D14+E14 -> 0
A15: Unarmed Security Guard | B15: 12 | D15: =B15*C15 -> 0 | E15: =D15*15% -> 0 | F15: =D15+E15 -> 0
A16: Total per month | B16: =B11+B12+B14+B15 -> 34 | F16: =F11+F12+F14+F15 -> 0
A17: Sekutupu Old Age Home
A19: Day Shift
A20: Description | B20: No of Guards | C20: Rate Per guard | D20: Total | E20: 15% vat | F20: Total Price
A21: Armed Security Guard | B21: 2 | D21: =B21*C21 -> 0 | E21: =D21*15% -> 0 | F21: =D21+E21 -> 0
A22: Unarmed Security Guard | B22: 2 | D22: =B22*C22 -> 0 | E22: =D22*15% -> 0 | F22: =D22+E22 -> 0
A23: Night Shift
A24: Armed Security Guard | B24: 2 | D24: =B24*C24 -> 0 | E24: =D24*15% -> 0 | F24: =D24+E24 -> 0
A25: Unarmed Security Guard | B25: 2 | D25: =B25*C25 -> 0 | E25: =D25*15% -> 0 | F25: =D25+E25 -> 0
A26: Total per month | B26: =B21+B22+B24+B25 -> 8 | F26: =F21+F22+F24+F25 -> 0
A27: TOTAL CLUSTER ONE BID PRICE | F27: =F26+F16 -> 0

Sheet Cluster 2
A1: NAME OF THE COMPANY
A2: BID NUMBER | B2: DSDP 05/25-19/25
A3: Company Registration No
A4: CLUSTER 2
A5: Andrew Mehlape One-Stop Centre
A6: Day Shift
A7: Description | B7: No of Guards | C7: Rate Per guard | D7: Sub -Total | E7: 15% Vat | F7: Total Price
A8: Armed Security Guard | B8: 1 | D8: =B8*C8 -> 0 | E8: =D8*15% -> 0 | F8: =D8+E8 -> 0
A9: Unarmed Security Guard | B9: 1 | D9: =B9*C9 -> 0 | E9: =D9*15% -> 0 | F9: =D9+E9 -> 0
A10: Night Shift
A11: Armed Security Guard | B11: 1 | D11: =B11*C11 -> 0 | E11: =D11*15% -> 0 | F11: =D11+E11 -> 0
A12: Unarmed Security Guard | B12: 1 | D12: =B12*C12 -> 0 | E12: =D12*15% -> 0 | F12: =D12+E12 -> 0
A13: Total per month | B13: 4 | F13: =F8+F9+F11+F12 -> 0
A14: Lebowakgomo Studio 2
A15: Day Shift
A16: Description | B16: No of Guards | C16: Rate Per guard | D16: Sub -Total | E16: 15% Vat | F16: Total Price
A17: Armed Security Guard | B17: 1 | D17: =B17*C17 -> 0 | E17: =D17*15% -> 0 | F17: =D17+E17 -> 0
A18: Unarmed Security Guard | B18: 2 | D18: =B18*C18 -> 0 | E18: =D18*15% -> 0 | F18: =D18+E18 -> 0
A19: Night Shift
A20: Armed Security Guard | B20: 1 | D20: =B20*C20 -> 0 | E20: =D20*15% -> 0 | F20: =D20+E20 -> 0
A21: Unarmed Security Guard | B21: 2 | D21: =B21*C21 -> 0 | E21: =D21*15% -> 0 | F21: =D21+E21 -> 0
A22: Total per month | B22: 6 | F22: =F17+F18+F20+F21 -> 0
A23: Buffelshoek One Stop Centre
A24: Day Shift
A25: Description | B25: No of Guards | E25: 15% Vat | F25: Total Price
A26: Armed Security Guard | B26: 1 | D26: =B26*C26 -> 0 | E26: =D26*15% -> 0 | F26: =D26+E26 -> 0
A27: Unarmed Security Guard | B27: 1 | D27: =B27*C27 -> 0 | E27: =D27*15% -> 0 | F27: =D27+E27 -> 0
A28: Night Shift
A29: Armed Security Guard | B29: 1 | D29: =B29*C29 -> 0 | E29: =D29*15% -> 0 | F29: =D29+E29 -> 0
A30: Unarmed Security Guard | B30: 1 | D30: =B30*C30 -> 0 | E30: =D30*15% -> 0 | F30: =D30+E30 -> 0
A31: Total per month | B31: 4 | F31: =F26+F27+F29+F30 -> 0
A32: Senwabarwana One-Stop Centre
A33: Day Shift
A34: Description | B34: No of Guards | C34: Rate Per guard | D34: Sub -Total | E34: 15% Vat | F34: Total Price
A35: Armed Security Guard | B35: 1 | D35: =B35*C35 -> 0 | E35: =D35*15% -> 0 | F35: =D35+E35 -> 0
A36: Unarmed Security Guard | B36: 2 | D36: =B36*C36 -> 0 | E36: =D36*15% -> 0 | F36: =D36+E36 -> 0
A37: Night Shift
A38: Armed Security Guard | B38: 1 | D38: =B38*C38 -> 0 | E38: =D38*15% -> 0 | F38: =D38+E38 -> 0
A39: Unarmed Security Guard | B39: 1 | D39: =B39*C39 -> 0 | E39: =D39*15% -> 0 | F39: =D39+E39 -> 0
A40: Total per month | B40: 5 | F40: =F35+F36+F38+F39 -> 0
A41: Mafefe One-Stop Centre
A42: Day Shift
A43: Description | B43: No of Guards | C43: Rate Per guard | D43: Sub -Total | E43: 15% Vat | F43: Total Price
A44: Armed Security Guard | B44: 1 | D44: =B44*C44 -> 0 | E44: =D44*15% -> 0 | F44: =D44+E44 -> 0
A45: Unarmed Security Guard | B45: 1 | D45: =B45*C45 -> 0 | E45: =D45*15% -> 0 | F45: =D45+E45 -> 0
A46: Night Shift
A47: Armed Security Guard | B47: 1 | D47: =B47*C47 -> 0 | E47: =D47*15% -> 0 | F47: =D47+E47 -> 0
A48: Unarmed Security Guard | B48: 1 | D48: =B48*C48 -> 0 | E48: =D48*15% -> 0 | F48: =D48+E48 -> 0
A49: Total per month | B49: 4 | F49: =F44+F45+F47+F48 -> 0
A50: Mafefe Drop-In Centre
A51: Day Shift
A52: Description | B52: No of Guards | C52: Rate Per guard | D52: Sub -Total | E52: 15% Vat | F52: Total Price
A53: Armed Security Guard | B53: 1 | D53: =B53*C53 -> 0 | E53: =D53*15% -> 0 | F53: =D53+E53 -> 0
A54: Unarmed Security Guard | B54: 1 | D54: =B54*C54 -> 0 | E54: =D54*15% -> 0 | F54: =D54+E54 -> 0
A55: Night Shift
A56: Armed Security Guard | B56: 1 | D56: =B56*C56 -> 0 | E56: =D56*15% -> 0 | F56: =D56+E56 -> 0
A57: Unarmed Security Guard | B57: 1 | D57: =B57*C57 -> 0 | E57: =D57*15% -> 0 | F57: =D57+E57 -> 0
A58: Total per month | B58: =B53+B54+B56+B57 -> 4 | F58: =F53+F54+F56+F57 -> 0
A59: Botlokwa One Stop Centre
A60: Day Shift
A61: Description | B61: No of Guards | C61: Rate Per guard | D61: Sub -Total | E61: 15% Vat | F61: Total Price
A62: Armed Security Guard | B62: 1 | D62: =B62*C62 -> 0 | E62: =D62*15% -> 0 | F62: =D62+E62 -> 0
A63: Unarmed Security Guard | B63: 3 | D63: =B63*C63 -> 0 | E63: =D63*15% -> 0 | F63: =D63+E63 -> 0
A64: Night Shift
A65: Armed Security Guard | B65: 1 | D65: =B65*C65 -> 0 | E65: =D65*15% -> 0 | F65: =D65+E65 -> 0
A66: Unarmed Security Guard | B66: 1 | D66: =B66*C66 -> 0 | E66: =D66*15% -> 0 | F66: =D66+E66 -> 0
A67: Total per month | B67: =B62+B63+B65+B66 -> 6 | F67: =F62+F63+F65+F66 -> 0
A68: Eisleben Clinic
A69: Day Shift
A70: Description | B70: No of Guards | C70: Rate Per guard | D70: Sub -Total | E70: 15% Vat | F70: Total Price
A71: Armed Security Guard | B71: 1 | D71: =B71*C71 -> 0 | E71: =D71*15% -> 0 | F71: =D71+E71 -> 0
A72: Unarmed Security Guard | B72: 1 | D72: =B72*C72 -> 0 | E72: =D72*15% -> 0 | F72: =D72+E72 -> 0
A73: Night Shift
A74: Armed Security Guard | B74: 1 | D74: =B74*C74 -> 0 | E74: =D74*15% -> 0 | F74: =D74+E74 -> 0
A75: Unarmed Security Guard | B75: 1 | D75: =B75*C75 -> 0 | E75: =D75*15% -> 0 | F75: =D75+E75 -> 0
A76: Total per month | B76: =B71+B72+B74+B75 -> 4 | F76: =F71+F72+F74+F75 -> 0
A77: TOTAL CLUSTER TWO BID PRICE | F77: =F13+F22+F31+F40+F49+F58+F67+F76 -> 0

Sheet cluster 3
A1: Name of the Company
A2: Bid Number | B2: DSDP 05/25-19/25
A3: Company Registration No
A4: CLUSTER 3
A5: Maelula One-Stop-Centre
A6: Day Shift
A7: Description | B7: No of Guards | C7: Rate Per guard | D7: Sub -Total | E7: 15% Vat | F7: Total Price
A8: Armed Security Guard | B8: 1 | D8: =B8*C8 -> 0 | E8: =D8*15% -> 0 | F8: =D8+E8 -> 0
A9: Unarmed Security Guard | B9: 1 | D9: =B9*C9 -> 0 | E9: =D9*15% -> 0 | F9: =D9+E9 -> 0
A10: Night Shift
A11: Armed Security Guard | B11: 1 | D11: =B11*C11 -> 0 | E11: =D11*15% -> 0 | F11: =D11+E11 -> 0
A12: Unarmed Security Guard | B12: 1 | D12: =B12*C12 -> 0 | E12: =D12*15% -> 0 | F12: =D12+E12 -> 0
A13: Total per month | B13: 4 | F13: =F8+F9+F11+F12 -> 0
A14: Rabali One-Stop-Centre
A15: Day Shift
A16: Description | B16: No of Guards | C16: Rate Per guard | D16: Sub -Total | E16: 15% Vat | F16: Total Price
A17: Armed Security Guard | B17: 1 | D17: =B17*C17 -> 0 | E17: =D17*15% -> 0 | F17: =D17+E17 -> 0
A18: Unarmed Security Guard | B18: 1 | D18: =B18*C18 -> 0 | E18: =D18*15% -> 0 | F18: =D18+E18 -> 0
A19: Night Shift
A20: Armed Security Guard | B20: 1 | D20: =B20*C20 -> 0 | E20: =D20*15% -> 0 | F20: =D20+E20 -> 0
A21: Unarmed Security Guard | B21: 1 | D21: =B21*C21 -> 0 | E21: =D21*15% -> 0 | F21: =D21+E21 -> 0
A22: Total per month | B22: 4 | F22: =F17+F18+F20+F21 -> 0
A23: Louis Trichardt Magistrate
A24: Day Shift
A25: Description | B25: No of Guards | C25: Rate Per guard | D25: Sub -Total | E25: 15% Vat | F25: Total Price
A26: Armed Security Guard | B26: 1 | D26: =B26*C26 -> 0 | E26: =D26*15% -> 0 | F26: =D26+E26 -> 0
A27: Unarmed Security Guard | B27: 1 | D27: =B27*C27 -> 0 | E27: =D27*15% -> 0 | F27: =D27+E27 -> 0
A28: Night Shift
A29: Armed Security Guard | B29: 1 | D29: =B29*C29 -> 0 | E29: =D29*15% -> 0 | F29: =D29+E29 -> 0
A30: Unarmed Security Guard | B30: 1 | D30: =B30*C30 -> 0 | E30: =D30*15% -> 0 | F30: =D30+E30 -> 0
A31: Total per month | B31: 4 | F31: =F26+F27+F29+F30 -> 0
A32: Tshitale One-Stop Centres
A33: Day Shift
A34: Description | B34: No of Guards | C34: Rate Per guard | D34: Sub -Total | E34: 15% Vat | F34: Total Price
A35: Armed Security Guard | B35: 1 | D35: =B35*C35 -> 0 | E35: =D35*15% -> 0 | F35: =D35+E35 -> 0
A36: Unarmed Security Guard | B36: 1 | D36: =B36*C36 -> 0 | E36: =D36*15% -> 0 | F36: =D36+E36 -> 0
A37: Night Shift
A38: Armed Security Guard | B38: 1 | D38: =B38*C38 -> 0 | E38: =D38*15% -> 0 | F38: =D38+E38 -> 0
A39: Unarmed Security Guard | B39: 1 | D39: =B39*C39 -> 0 | E39: =D39*15% -> 0 | F39: =D39+E39 -> 0
A40: Total per month | B40: 4 | F40: =F35+F36+F38+F39 -> 0
A41: Mutale One-Stop Centre
A42: Day Shift
A43: Description | B43: No of Guards | C43: Rate Per guard | D43: Sub -Total | E43: 15% Vat | F43: Total Price
A44: Armed Security Guard | B44: 1 | D44: =B44*C44 -> 0 | E44: =D44*15% -> 0 | F44: =D44+E44 -> 0
A45: Unarmed Security Guard | B45: 1 | D45: =B45*C45 -> 0 | E45: =D45*15% -> 0 | F45: =D45+E45 -> 0
A46: Night Shift
A47: Armed Security Guard | B47: 1 | D47: =B47*C47 -> 0 | E47: =D47*15% -> 0 | F47: =D47+E47 -> 0
A48: Unarmed Security Guard | B48: 1 | D48: =B48*C48 -> 0 | E48: =D48*15% -> 0 | F48: =D48+E48 -> 0
A49: Total per month | B49: 4 | F49: =F44+F45+F47+F48 -> 0
A50: Tshaulu One-Stop Centre
A51: Day Shift
A52: Description | B52: No of Guards | C52: Rate Per guard | D52: Sub -Total | E52: 15% Vat | F52: Total Price
A53: Armed Security Guard | B53: 1 | D53: =B53*C53 -> 0 | E53: =D53*15% -> 0 | F53: =D53+E53 -> 0
A54: Unarmed Security Guard | B54: 1 | D54: =B54*C54 -> 0 | E54: =D54*15% -> 0 | F54: =D54+E54 -> 0
A55: Night Shift
A56: Armed Security Guard | B56: 1 | D56: =B56*C56 -> 0 | E56: =D56*15% -> 0 | F56: =D56+E56 -> 0
A57: Unarmed Security Guard | B57: 1 | D57: =B57*C57 -> 0 | E57: =D57*15% -> 0 | F57: =D57+E57 -> 0
A58: Total per month | B58: 4 | F58: =F53+F54+F56+F57 -> 0
A59: Tshipise One-Stop Centre
A60: Day Shift
A61: Description | B61: No of Guards | C61: Rate Per guard | D61: Sub -Total | E61: 15% Vat | F61: Total Price
A62: Armed Security Guard | B62: 1 | D62: =B62*C62 -> 0 | E62: =D62*15% -> 0 | F62: =D62+E62 -> 0
A63: Unarmed Security Guard | B63: 1 | D63: =B63*C63 -> 0 | E63: =D63*15% -> 0 | F63: =D63+E63 -> 0
A64: Night Shift
A65: Armed Security Guard | B65: 1 | D65: =B65*C65 -> 0 | E65: =D65*15% -> 0 | F65: =D65+E65 -> 0
A66: Unarmed Security Guard | B66: 1 | D66: =B66*C66 -> 0 | E66: =D66*15% -> 0 | F66: =D66+E66 -> 0
A67: Total per month | B67: 4 | F67: =F62+F63+F65+F66 -> 0
A68: Thandululo Community Based Rehabilitation Centre
A69: Day Shift
A70: Description | B70: No of Guards | C70: Rate Per guard | D70: Sub -Total | E70: 15% Vat | F70: Total Price
A71: Unarmed Security Guard | B71: 1 | D71: =B71*C71 -> 0 | E71: =D71*15% -> 0 | F71: =D71+E71 -> 0
A72: Night Shift
A73: Armed Security Guard | B73: 1 | D73: =B73*C73 -> 0 | E73: =D73*15% -> 0 | F73: =D73+E73 -> 0
A74: Unarmed Security Guard | B74: 1 | D74: =B74*C74 -> 0 | E74: =D74*15% -> 0 | F74: =D74+E74 -> 0
A75: Total per month | B75: 3
A76: TOTAL CLUSTER THREE (3) BID PRICE | F76: =F13+F22+F31+F40+F49+F58+F67+F75 -> 0

Sheet cluster 4
A1: Name of the Company
A2: Bid Number | B2: DSDP 05/25-19/25
A3: Company Registration No
A4: CLUSTER 4
A5: Seshego Treatment Centre
A6: Day Shift
A7: Description | B7: No of Guards | C7: Rate Per guard | D7: Sub -Total | E7: 15% Vat | F7: Total Price
A8: Armed Security Guard | B8: 3 | D8: =B8*C8 -> 0 | E8: =D8*15% -> 0 | F8: =D8+E8 -> 0
A9: Unarmed Security Guard | B9: 5 | D9: =B9*C9 -> 0 | E9: =D9*15% -> 0 | F9: =D9+E9 -> 0
A10: Night Shift
A11: Armed Security Guard | B11: 3 | D11: =B11*C11 -> 0 | E11: =D11*15% -> 0 | F11: =D11+E11 -> 0
A12: Unarmed Security Guard | B12: 5 | D12: =B12*C12 -> 0 | E12: =D12*15% -> 0 | F12: =D12+E12 -> 0
A13: Total per month | B13: =B8+B9+B11+B12 -> 16 | F13: =F8+F9+F11+F12 -> 0
A14: Seshego Zone 3 Welfare Office
A15: Day Shift
A16: Description | B16: No of Guards | C16: Rate Per guard | D16: Sub -Total | E16: 15% Vat | F16: Total Price
A17: Armed Security Guard | B17: 1 | D17: =B17*C17 -> 0 | E17: =D17*15% -> 0 | F17: =D17+E17 -> 0
A18: Unarmed Security Guard | B18: 1 | D18: =B18*C18 -> 0 | E18: =D18*15% -> 0 | F18: =D18+E18 -> 0
A19: Night Shift
A20: Armed Security Guard | B20: 1 | D20: =B20*C20 -> 0 | E20: =D20*15% -> 0 | F20: =D20+E20 -> 0
A21: Unarmed Security Guard | B21: 1 | D21: =B21*C21 -> 0 | E21: =D21*15% -> 0 | F21: =D21+E21 -> 0
A22: Total per month | B22: =B17+B18+B20+B21 -> 4 | F22: =F17+F18+F20+F21 -> 0
A23: Seshego One Stop Centre
A24: Day Shift
A25: Description | B25: No of Guards | C25: Rate Per guard | D25: Sub -Total | E25: 15% Vat | F25: Total Price
A26: Armed Security Guard | B26: 1 | D26: =B26*C26 -> 0 | E26: =D26*15% -> 0 | F26: =D26+E26 -> 0
A27: Unarmed Security Guard | B27: 1 | D27: =B27*C27 -> 0 | E27: =D27*15% -> 0 | F27: =D27+E27 -> 0
A28: Night Shift
A29: Armed Security Guard | B29: 1 | D29: =B29*C29 -> 0 | E29: =D29*15% -> 0 | F29: =D29+E29 -> 0
A30: Unarmed Security Guard | B30: 1 | D30: =B30*C30 -> 0 | E30: =D30*15% -> 0 | F30: =D30+E30 -> 0
A31: Total per month | B31: =B26+B27+B29+B30 -> 4 | F31: =F26+F27+F29+F30 -> 0
A32: Aganang One Stop Centre
A33: Day Shift
A34: Description | B34: No of Guards | C34: Rate Per guard | D34: Sub -Total | E34: 15% Vat | F34: Total Price
A35: Armed Security Guard | B35: 1 | D35: =B35*C35 -> 0 | E35: =D35*15% -> 0 | F35: =D35+E35 -> 0
A36: Unarmed Security Guard | B36: 2 | D36: =B36*C36 -> 0 | E36: =D36*15% -> 0 | F36: =D36+E36 -> 0
A37: Night Shift
A38: Armed Security Guard | B38: 1 | D38: =B38*C38 -> 0 | E38: =D38*15% -> 0 | F38: =D38+E38 -> 0
A39: Unarmed Security Guard | B39: 2 | D39: =B39*C39 -> 0 | E39: =D39*15% -> 0 | F39: =D39+E39 -> 0
A40: Total per month | B40: =B35+B36+B38+B39 -> 6 | F40: =F35+F36+F38+F39 -> 0
A41: TOTAL CLUSTER FOUR (4) BID PRICE | F41: =F13+F22+F31+F40 -> 0

Sheet cluster 5
A1: Name of the Company
A2: Bid Number | B2: DSDP 05/25-19/25
A3: Company Registration No
A4: CLUSTER 5
A5: Unigaz Social Development Offices
A6: Day Shift
A7: Description | B7: No of Guards | C7: Rate Per guard | D7: Sub -Total | E7: 15% Vat | F7: Total Price
A8: Armed Security Guard | B8: 1 | D8: =B8*C8 -> 0 | E8: =D8*15% -> 0 | F8: =D8+E8 -> 0
A9: Unarmed Security Guard | B9: 1 | D9: =B9*C9 -> 0 | E9: =D9*15% -> 0 | F9: =D9+E9 -> 0
A10: Night Shift
A11: Armed Security Guard | B11: 1 | D11: =B11*C11 -> 0 | E11: =D11*15% -> 0 | F11: =D11+E11 -> 0
A12: Unarmed Security Guard | B12: 1 | D12: =B12*C12 -> 0 | E12: =D12*15% -> 0 | F12: =D12+E12 -> 0
A13: Total per month | B13: 4 | F13: =F8+F9+F11+F12 -> 0
A14: Giyani One-Stop Centre
A15: Day Shift
A16: Description | B16: No of Guards | C16: Rate Per guard | D16: Sub -Total | E16: 15% Vat | F16: Total Price
A17: Armed Security Guard | B17: 1 | D17: =B17*C17 -> 0 | E17: =D17*15% -> 0 | F17: =D17+E17 -> 0
A18: Unarmed Security Guard | B18: 1 | D18: =B18*C18 -> 0 | E18: =D18*15% -> 0 | F18: =D18+E18 -> 0
A19: Night Shift
A20: Armed Security Guard | B20: 1 | D20: =B20*C20 -> 0 | E20: =D20*15% -> 0 | F20: =D20+E20 -> 0
A21: Unarmed Security Guard | B21: 1 | D21: =B21*C21 -> 0 | E21: =D21*15% -> 0 | F21: =D21+E21 -> 0
A22: Total per month | B22: 4 | F22: =F17+F18+F20+F21 -> 0
A23: Iris Home Child and Youth Care Centre
A24: Day Shift
A25: Description | B25: No of Guards | C25: Rate Per guard | D25: Sub -Total | E25: 15% Vat | F25: Total Price
A26: Armed Security Guard | B26: 1 | D26: =B26*C26 -> 0 | E26: =D26*15% -> 0 | F26: =D26+E26 -> 0
A27: Unarmed Security Guard | B27: 2 | D27: =B27*C27 -> 0 | E27: =D27*15% -> 0 | F27: =D27+E27 -> 0
A28: Night Shift
A29: Armed Security Guard | B29: 1 | D29: =B29*C29 -> 0 | E29: =D29*15% -> 0 | F29: =D29+E29 -> 0
A30: Unarmed Security Guard | B30: 2 | D30: =B30*C30 -> 0 | E30: =D30*15% -> 0 | F30: =D30+E30 -> 0
A31: Total per month | B31: =B26+B27+B29+B30 -> 6 | F31: =F26+F27+F29+F30 -> 0
A32: Ndindani Community Care Centre
A33: Day Shift
A34: Description | B34: No of Guards | C34: Rate Per guard | D34: Sub -Total | E34: 15% Vat | F34: Total Price
A35: Armed Security Guard | B35: 1 | D35: =B35*C35 -> 0 | E35: =D35*15% -> 0 | F35: =D35+E35 -> 0
A36: Unarmed Security Guard | B36: 1 | D36: =B36*C36 -> 0 | E36: =D36*15% -> 0 | F36: =D36+E36 -> 0
A37: Night Shift
A38: Armed Security Guard | B38: 1 | D38: =B38*C38 -> 0 | E38: =D38*15% -> 0 | F38: =D38+E38 -> 0
A39: Unarmed Security Guard | B39: 1 | D39: =B39*C39 -> 0 | E39: =D39*15% -> 0 | F39: =D39+E39 -> 0
A40: Total per month | B40: 4 | F40: =F35+F36+F38+F39 -> 0
A41: Gawula One Stop Centre
A42: Day Shift
A43: Description | B43: No of Guards | C43: Rate Per guard | D43: Sub -Total | E43: 15% Vat | F43: Total Price
A44: Armed Security Guard | B44: 1 | D44: =B44*C44 -> 0 | E44: =D44*15% -> 0 | F44: =D44+E44 -> 0
A45: Unarmed Security Guard | B45: 1 | D45: =B45*C45 -> 0 | E45: =D45*15% -> 0 | F45: =D45+E45 -> 0
A46: Night Shift
A47: Armed Security Guard | B47: 1 | D47: =B47*C47 -> 0 | E47: =D47*15% -> 0 | F47: =D47+E47 -> 0
A48: Unarmed Security Guard | B48: 1 | D48: =B48*C48 -> 0 | E48: =D48*15% -> 0 | F48: =D48+E48 -> 0
A49: Total per month | B49: 4 | F49: =F44+F45+F47+F48 -> 0
A50: Sekororo One-Stop Centre
A51: Day Shift
A52: Description | B52: No of Guards | C52: Rate Per guard | D52: Sub -Total | E52: 15% Vat | F52: Total Price
A53: Armed Security Guard | B53: 1 | D53: =B53*C53 -> 0 | E53: =D53*15% -> 0 | F53: =D53+E53 -> 0
A54: Unarmed Security Guard | B54: 1 | D54: =B54*C54 -> 0 | E54: =D54*15% -> 0 | F54: =D54+E54 -> 0
A55: Night Shift
A56: Armed Security Guard | B56: 1 | D56: =B56*C56 -> 0 | E56: =D56*15% -> 0 | F56: =D56+E56 -> 0
A57: Unarmed Security Guard | B57: 1 | D57: =B57*C57 -> 0 | E57: =D57*15% -> 0 | F57: =D57+E57 -> 0
A58: Total per month | B58: 4 | F58: =F53+F54+F56+F57 -> 0
A59: TOTAL CLUSTER FIVE (5) BID PRICE | F59: =F13+F22+F31+F40+F49+F58 -> 0

Sheet Cluster 6
A1: Name of the Company
A2: Bid Number | B2: DSDP 05/25-19/25
A3: Company Registration No
A4: CLUSTER 4
A5: Schoonoord One Stop Centre
A6: Day Shift
A7: Description | B7: No of Guards | C7: Rate Per guard | D7: Sub -Total | E7: 15% Vat | F7: Total Price
A8: Armed Security Guard | B8: 1 | D8: =B8*C8 -> 0 | E8: =D8*15% -> 0 | F8: =D8+E8 -> 0
A9: Unarmed Security Guard | B9: 1 | D9: =B9*C9 -> 0 | E9: =D9*15% -> 0 | F9: =D9+E9 -> 0
A10: Night Shift
A11: Armed Security Guard | B11: 1 | D11: =B11*C11 -> 0 | E11: =D11*15% -> 0 | F11: =D11+E11 -> 0
A12: Unarmed Security Guard | B12: 1 | D12: =B12*C12 -> 0 | E12: =D12*15% -> 0 | F12: =D12+E12 -> 0
A13: Total per month | B13: 4 | F13: =F8+F9+F11+F12 -> 0
A14: Jane Furse One-Stop Centre
A15: Day Shift
A16: Description | B16: No of Guards | C16: Rate Per guard | D16: Sub -Total | E16: 15% Vat | F16: Total Price
A17: Armed Security Guard | B17: 1 | D17: =B17*C17 -> 0 | E17: =D17*15% -> 0 | F17: =D17+E17 -> 0
A18: Unarmed Security Guard | B18: 1 | D18: =B18*C18 -> 0 | E18: =D18*15% -> 0 | F18: =D18+E18 -> 0
A19: Night Shift
A20: Armed Security Guard | B20: 1 | D20: =B20*C20 -> 0 | E20: =D20*15% -> 0 | F20: =D20+E20 -> 0
A21: Unarmed Security Guard | B21: 1 | D21: =B21*C21 -> 0 | E21: =D21*15% -> 0 | F21: =D21+E21 -> 0
A22: Total per month | B22: 4 | F22: =F17+F18+F20+F21 -> 0
A23: Mphanama One-Stop Centre
A25: Day Shift
A26: Description | B26: No of Guards | C26: Rate Per guard | D26: Sub -Total | E26: 15% Vat | F26: Total Price
A27: Armed Security Guard | B27: 1 | D27: =B27*C27 -> 0 | E27: =D27*15% -> 0 | F27: =D27+E27 -> 0
A28: Unarmed Security Guard | B28: 1 | D28: =B28*C28 -> 0 | E28: =D28*15% -> 0 | F28: =D28+E28 -> 0
A29: Night Shift
A30: Armed Security Guard | B30: 1 | D30: =B30*C30 -> 0 | E30: =D30*15% -> 0 | F30: =D30+E30 -> 0
A31: Unarmed Security Guard | B31: 1 | D31: =B31*C31 -> 0 | E31: =D31*15% -> 0 | F31: =D31+E31 -> 0
A32: Total per month | B32: 4 | F32: =F27+F28+F30+F31 -> 0
A33: Fetakgomo One-Stop Centre
A35: Day Shift
A36: Description | B36: No of Guards | C36: Rate Per guard | D36: Sub -Total | E36: 15% Vat | F36: Total Price
A37: Armed Security Guard | B37: 1 | D37: =B37*C37 -> 0 | E37: =D37*15% -> 0 | F37: =D37+E37 -> 0
A38: Unarmed Security Guard | B38: 2 | D38: =B38*C38 -> 0 | E38: =D38*15% -> 0 | F38: =D38+E38 -> 0
A39: Night Shift
A40: Armed Security Guard | B40: 1 | D40: =B40*C40 -> 0 | E40: =D40*15% -> 0 | F40: =D40+E40 -> 0
A41: Unarmed Security Guard | B41: 2 | D41: =B41*C41 -> 0 | E41: =D41*15% -> 0 | F41: =D41+E41 -> 0
A42: Total per month | B42: =B37+B38+B40+B41 -> 6 | F42: =F37+F38+F40+F41 -> 0
A43: Rossenekal One-Stop Centre
A45: Day Shift
A46: Description | B46: No of Guards | C46: Rate Per guard | D46: Sub -Total | E46: 15% Vat | F46: Total Price
A47: Armed Security Guard | B47: 1 | D47: =B47*C47 -> 0 | E47: =D47*15% -> 0 | F47: =D47+E47 -> 0
A48: Unarmed Security Guard | B48: 1 | D48: =B48*C48 -> 0 | E48: =D48*15% -> 0 | F48: =D48+E48 -> 0
A49: Night Shift
A50: Armed Security Guard | B50: 1 | D50: =B50*C50 -> 0 | E50: =D50*15% -> 0 | F50: =D50+E50 -> 0
A51: Unarmed Security Guard | B51: 1 | D51: =B51*C51 -> 0 | E51: =D51*15% -> 0 | F51: =D51+E51 -> 0
A52: Total per month | B52: 4 | F52: =F47+F48+F50+F51 -> 0
A53: TOTAL CLUSTER SIX(6) BID PRICE | F53: =F13+F22+F32+F42+F52 -> 0

Sheet Cluster 7
A1: Name of the Company
A2: Bid Number | B2: DSDP 05/25-19/25
A3: Company Registration No
A4: CLUSTER 4
A5: Matsepe One Stop Centre
A6: Day Shift
A7: Description | B7: No of Guards | C7: Rate Per guard | D7: Sub -Total | E7: 15% Vat | F7: Total Price
A8: Armed Security Guard | B8: 1 | D8: =B8*C8 -> 0 | E8: =D8*15% -> 0 | F8: =D8+E8 -> 0
A9: Unarmed Security Guard | B9: 1 | D9: =B9*C9 -> 0 | E9: =D9*15% -> 0 | F9: =D9+E9 -> 0
A10: Night Shift
A11: Armed Security Guard | B11: 1 | D11: =B11*C11 -> 0 | E11: =D11*15% -> 0 | F11: =D11+E11 -> 0
A12: Unarmed Security Guard | B12: 1 | D12: =B12*C12 -> 0 | E12: =D12*15% -> 0 | F12: =D12+E12 -> 0
A13: Total per month | B13: 4 | F13: =F8+F9+F11+F12 -> 0
A14: Sempupuru Cluster Office
A15: Day Shift
A16: Description | B16: No of Guards | C16: Rate Per guard | D16: Sub -Total | E16: 15% Vat | F16: Total Price
A17: Armed Security Guard | B17: 1 | D17: =B17*C17 -> 0 | E17: =D17*15% -> 0 | F17: =D17+E17 -> 0
A18: Unarmed Security Guard | B18: 1 | D18: =B18*C18 -> 0 | E18: =D18*15% -> 0 | F18: =D18+E18 -> 0
A19: Night Shift
A20: Armed Security Guard | B20: 1 | D20: =B20*C20 -> 0 | E20: =D20*15% -> 0 | F20: =D20+E20 -> 0
A21: Unarmed Security Guard | B21: 1 | D21: =B21*C21 -> 0 | E21: =D21*15% -> 0 | F21: =D21+E21 -> 0
A22: Total per month | B22: 4 | F22: =F17+F18+F20+F21 -> 0
A23: Tsimanyana One-Stop Centre
A24: Day Shift
A25: Description | B25: No of Guards | C25: Rate Per guard | D25: Sub -Total | E25: 15% Vat | F25: Total Price
A26: Armed Security Guard | B26: 1 | D26: =B26*C26 -> 0 | E26: =D26*15% -> 0 | F26: =D26+E26 -> 0
A27: Unarmed Security Guard | B27: 1 | D27: =B27*C27 -> 0 | E27: =D27*15% -> 0 | F27: =D27+E27 -> 0
A28: Night Shift
A29: Armed Security Guard | B29: 1 | D29: =B29*C29 -> 0 | E29: =D29*15% -> 0 | F29: =D29+E29 -> 0
A30: Unarmed Security Guard | B30: 1 | D30: =B30*C30 -> 0 | E30: =D30*15% -> 0 | F30: =D30+E30 -> 0
A31: Total per month | B31: 4 | F31: =F26+F27+F29+F30 -> 0
A32: Zaaiplaas One-Stop Centre
A33: Day Shift
A34: Description | B34: No of Guards | C34: Rate Per guard | D34: Sub -Total | E34: 15% Vat | F34: Total Price
A35: Armed Security Guard | B35: 1 | D35: =B35*C35 -> 0 | E35: =D35*15% -> 0 | F35: =D35+E35 -> 0
A36: Unarmed Security Guard | B36: 1 | D36: =B36*C36 -> 0 | E36: =D36*15% -> 0 | F36: =D36+E36 -> 0
A37: Night Shift
A38: Armed Security Guard | B38: 1 | D38: =B38*C38 -> 0 | E38: =D38*15% -> 0 | F38: =D38+E38 -> 0
A39: Unarmed Security Guard | B39: 1 | D39: =B39*C39 -> 0 | E39: =D39*15% -> 0 | F39: =D39+E39 -> 0
A40: Total per month | B40: 4 | F40: =F35+F36+F38+F39 -> 0
A41: Luckau One Stop Centres
A42: Day Shift
A43: Description | B43: No of Guards | C43: Rate Per guard | D43: Sub -Total | E43: 15% Vat | F43: Total Price
A44: Armed Security Guard | B44: 1 | D44: =B44*C44 -> 0 | E44: =D44*15% -> 0 | F44: =D44+E44 -> 0
A45: Unarmed Security Guard | B45: 2 | D45: =B45*C45 -> 0 | E45: =D45*15% -> 0 | F45: =D45+E45 -> 0
A46: Night Shift
A47: Armed Security Guard | B47: 1 | D47: =B47*C47 -> 0 | E47: =D47*15% -> 0 | F47: =D47+E47 -> 0
A48: Unarmed Security Guard | B48: 2 | D48: =B48*C48 -> 0 | E48: =D48*15% -> 0 | F48: =D48+E48 -> 0
A49: Total per month | B49: =B44+B45+B47+B48 -> 6 | F49: =F44+F45+F47+F48 -> 0
A50: Matlerekeng One-Stop Centre
A51: Day Shift
A52: Description | B52: No of Guards | C52: Rate Per guard | D52: Sub -Total | E52: 15% Vat | F52: Total Price
A53: Armed Security Guard | B53: 1 | D53: =B53*C53 -> 0 | E53: =D53*15% -> 0 | F53: =D53+E53 -> 0
A54: Unarmed Security Guard | B54: 1 | D54: =B54*C54 -> 0 | E54: =D54*15% -> 0 | F54: =D54+E54 -> 0
A55: Night Shift
A56: Armed Security Guard | B56: 1 | D56: =B56*C56 -> 0 | E56: =D56*15% -> 0 | F56: =D56+E56 -> 0
A57: Unarmed Security Guard | B57: 1 | D57: =B57*C57 -> 0 | E57: =D57*15% -> 0 | F57: =D57+E57 -> 0
A58: Total per month | B58: 4 | F58: =F53+F54+F56+F57 -> 0
A59: TOTAL CLUSTER SEVEN(7) BID PRICE | F59: =F13+F22+F31+F40+F49+F58 -> 0

Sheet Cluster 8
A1: Name of the Company
A2: Bid Number | B2: DSDP 05/25-19/25
A3: Company Registration No
A5: CLUSTER 8
A6: Woman Of Calvary
A7: Day Shift
A8: Description | B8: No of Guards | C8: Rate Per guard | D8: Sub -Total | E8: 15% Vat | F8: Total Price
A9: Unarmed Security Guard | B9: 1 | D9: =B9*C9 -> 0 | E9: =D9*15% -> 0 | F9: =D9+E9 -> 0
A10: Night Shift
A11: Armed Security Guard | B11: 1 | D11: =B11*C11 -> 0 | E11: =D11*15% -> 0 | F11: =D11+E11 -> 0
A12: Unarmed Security Guard | B12: 1 | D12: =B12*C12 -> 0 | E12: =D12*15% -> 0 | F12: =D12+E12 -> 0
A13: Total per month | B13: 3 | F13: =F9+F11+F12 -> 0
A14: Vuwani One-Stop Centre
A15: Day Shift
A16: Description | B16: No of Guards | C16: Rate Per guard | D16: Sub -Total | E16: 15% Vat | F16: Total Price
A17: Armed Security Guard | B17: 1 | D17: =B17*C17 -> 0 | E17: =D17*15% -> 0 | F17: =D17+E17 -> 0
A18: Unarmed Security Guard | B18: 1 | D18: =B18*C18 -> 0 | E18: =D18*15% -> 0 | F18: =D18+E18 -> 0
A19: Night Shift
A20: Armed Security Guard | B20: 1 | D20: =B20*C20 -> 0 | E20: =D20*15% -> 0 | F20: =D20+E20 -> 0
A21: Unarmed Security Guard | B21: 1 | D21: =B21*C21 -> 0 | E21: =D21*15% -> 0 | F21: =D21+E21 -> 0
A22: Total per month | B22: 4 | F22: =F17+F18+F20+F21 -> 0
A23: Mtsetweni Child And Youth Care Centre
A24: Day Shift
A25: Description | B25: No of Guards | C25: Rate Per guard | D25: Sub -Total | E25: 15% Vat | F25: Total Price
A26: Armed Security Guard | B26: 1 | D26: =B26*C26 -> 0 | E26: =D26*15% -> 0 | F26: =D26+E26 -> 0
A27: Unarmed Security Guard | B27: 3 | D27: =B27*C27 -> 0 | E27: =D27*15% -> 0 | F27: =D27+E27 -> 0
A28: Night Shift
A29: Armed Security Guard | B29: 1 | D29: =B29*C29 -> 0 | E29: =D29*15% -> 0 | F29: =D29+E29 -> 0
A30: Unarmed Security Guard | B30: 3 | D30: =B30*C30 -> 0 | E30: =D30*15% -> 0 | F30: =D30+E30 -> 0
A31: Total per month | B31: =B26+B27+B29+B30 -> 8 | F31: =F26+F27+F29+F30 -> 0
A32: Vleifontein One-Stop Centre
A33: Day Shift
A34: Description | B34: No of Guards | C34: Rate Per guard | D34: Sub -Total | E34: 15% Vat | F34: Total Price
A35: Armed Security Guard | B35: 1 | D35: =B35*C35 -> 0 | E35: =D35*15% -> 0 | F35: =D35+E35 -> 0
A36: Unarmed Security Guard | B36: 1 | D36: =B36*C36 -> 0 | E36: =D36*15% -> 0 | F36: =D36+E36 -> 0
A37: Night Shift
A38: Armed Security Guard | B38: 1 | D38: =B38*C38 -> 0 | E38: =D38*15% -> 0 | F38: =D38+E38 -> 0
A39: Unarmed Security Guard | B39: 1 | D39: =B39*C39 -> 0 | E39: =D39*15% -> 0 | F39: =D39+E39 -> 0
A40: Total per month | B40: 4 | F40: =F35+F36+F38+F39 -> 0
A41: Mamvuka Community Care Centre
A42: Day Shift
A43: Description | B43: No of Guards | C43: Rate Per guard | D43: Sub -Total | E43: 15% Vat | F43: Total Price
A44: Armed Security Guard | B44: 1 | D44: =B44*C44 -> 0 | E44: =D44*15% -> 0 | F44: =D44+E44 -> 0
A45: Unarmed Security Guard | B45: 2 | D45: =B45*C45 -> 0 | E45: =D45*15% -> 0 | F45: =D45+E45 -> 0
A46: Night Shift
A47: Armed Security Guard | B47: 1 | D47: =B47*C47 -> 0 | E47: =D47*15% -> 0 | F47: =D47+E47 -> 0
A48: Unarmed Security Guard | B48: 2 | D48: =B48*C48 -> 0 | E48: =D48*15% -> 0 | F48: =D48+E48 -> 0
A49: Total per month | B49: =B44+B45+B47+B48 -> 6 | F49: =F44+F45+F47+F48 -> 0
A50: TOTAL CLUSTER EIGHT (8) BID PRICE | F50: =F13+F22+F31+F40+F49 -> 0

Sheet Cluster 9
A1: Name of the Company
A2: Bid Number | B2: DSDP 05/25-19/25
A3: Company Registration No
A4: CLUSTER 9
A5: Thohoyandou Child and Youth Care Centre
A6: Day Shift
A7: Description | B7: No of Guards | C7: Rate Per guard | D7: Sub -Total | E7: 15% Vat | F7: Total Price
A8: Armed Security Guard | B8: 1 | D8: =B8*C8 -> 0 | E8: =D8*15% -> 0 | F8: =D8+E8 -> 0
A9: Unarmed Security Guard | B9: 3 | D9: =B9*C9 -> 0 | E9: =D9*15% -> 0 | F9: =D9+E9 -> 0
A10: Night Shift
A11: Armed Security Guard | B11: 1 | D11: =B11*C11 -> 0 | E11: =D11*15% -> 0 | F11: =D11+E11 -> 0
A12: Unarmed Security Guard | B12: 3 | D12: =B12*C12 -> 0 | E12: =D12*15% -> 0 | F12: =D12+E12 -> 0
A13: Total per month | B13: =B8+B9+B11+B12 -> 8 | F13: =F8+F9+F11+F12 -> 0
A14: Thohoyandou One-Stop Centre
A15: Day Shift
A16: Description | B16: No of Guards | C16: Rate Per guard | D16: Sub -Total | E16: 15% Vat | F16: Total Price
A17: Armed Security Guard | B17: 1 | D17: =B17*C17 -> 0 | E17: =D17*15% -> 0 | F17: =D17+E17 -> 0
A18: Unarmed Security Guard | B18: 1 | D18: =B18*C18 -> 0 | E18: =D18*15% -> 0 | F18: =D18+E18 -> 0
A19: Night Shift
A20: Armed Security Guard | B20: 1 | D20: =B20*C20 -> 0 | E20: =D20*15% -> 0 | F20: =D20+E20 -> 0
A21: Unarmed Security Guard | B21: 1 | D21: =B21*C21 -> 0 | E21: =D21*15% -> 0 | F21: =D21+E21 -> 0
A22: Total per month | B22: 4 | F22: =F17+F18+F20+F21 -> 0
A23: Tshidimbini One Stop-Centre
A24: Day Shift
A25: Description | B25: No of Guards | C25: Rate Per guard | D25: Sub -Total | E25: 15% Vat | F25: Total Price
A26: Armed Security Guard | B26: 1 | D26: =B26*C26 -> 0 | E26: =D26*15% -> 0 | F26: =D26+E26 -> 0
A27: Unarmed Security Guard | B27: 1 | D27: =B27*C27 -> 0 | E27: =D27*15% -> 0 | F27: =D27+E27 -> 0
A28: Night Shift
A29: Armed Security Guard | B29: 1 | D29: =B29*C29 -> 0 | E29: =D29*15% -> 0 | F29: =D29+E29 -> 0
A30: Unarmed Security Guard | B30: 1 | D30: =B30*C30 -> 0 | E30: =D30*15% -> 0 | F30: =D30+E30 -> 0
A31: Total per month | B31: 4 | F31: =F26+F27+F29+F30 -> 0
A32: Makwarela After School
A33: Day Shift
A34: Description | B34: No of Guards | C34: Rate Per guard | D34: Sub -Total | E34: 15% Vat | F34: Total Price
A35: Armed Security Guard | B35: 1 | D35: =B35*C35 -> 0 | E35: =D35*15% -> 0 | F35: =D35+E35 -> 0
A36: Unarmed Security Guard | B36: 1 | D36: =B36*C36 -> 0 | E36: =D36*15% -> 0 | F36: =D36+E36 -> 0
A37: Night Shift
A38: Armed Security Guard | B38: 1 | D38: =B38*C38 -> 0 | E38: =D38*15% -> 0 | F38: =D38+E38 -> 0
A39: Unarmed Security Guard | B39: 1 | D39: =B39*C39 -> 0 | E39: =D39*15% -> 0 | F39: =D39+E39 -> 0
A40: Total per month | B40: 4 | F40: =F35+F36+F38+F39 -> 0
A41: Makwarela Welfare Office
A42: Day Shift
A43: Description | B43: No of Guards | C43: Rate Per guard | D43: Sub -Total | E43: 15% Vat | F43: Total Price
A44: Armed Security Guard | B44: 1 | D44: =B44*C44 -> 0 | E44: =D44*15% -> 0 | F44: =D44+E44 -> 0
A45: Unarmed Security Guard | B45: 1 | D45: =B45*C45 -> 0 | E45: =D45*15% -> 0 | F45: =D45+E45 -> 0
A46: Night Shift
A47: Armed Security Guard | B47: 1 | D47: =B47*C47 -> 0 | E47: =D47*15% -> 0 | F47: =D47+E47 -> 0
A48: Unarmed Security Guard | B48: 1 | D48: =B48*C48 -> 0 | E48: =D48*15% -> 0 | F48: =D48+E48 -> 0
A49: Total per month | B49: 4 | F49: =F44+F45+F47+F48 -> 0
A50: TOTAL CLUSTER EIGHT (8) BID PRICE | F50: =F13+F22+F31+F40+F49 -> 0

Sheet Cluster 10
A1: Name of the Company
A2: Bid Number | B2: DSDP 05/25-19/25
A3: Company Registration No
A4: CLUSTER 10
A5: Mavambe Child And Youth Care Centre
A6: Day Shift
A7: Description | B7: No of Guards | C7: Rate Per guard | D7: Sub -Total | E7: 15% Vat | F7: Total Price
A8: Armed Security Guard | B8: 4 | D8: =B8*C8 -> 0 | E8: =D8*15% -> 0 | F8: =D8+E8 -> 0
A9: Unarmed Security Guard | B9: 8 | D9: =B9*C9 -> 0 | E9: =D9*15% -> 0 | F9: =D9+E9 -> 0
A10: Night Shift
A11: Armed Security Guard | B11: 4 | D11: =B11*C11 -> 0 | E11: =D11*15% -> 0 | F11: =D11+E11 -> 0
A12: Unarmed Security Guard | B12: 8 | D12: =B12*C12 -> 0 | E12: =D12*15% -> 0 | F12: =D12+E12 -> 0
A13: Total per month | B13: =B8+B9+B11+B12 -> 24 | F13: =F8+F9+F11+F12 -> 0
A14: TOTAL CLUSTER TEN(10) BID PRICE | F14: =F13 -> 0

Sheet Cluster 11
A1: Name of the Company
A2: Bid Number | B2: DSDP 05/25-19/25
A3: Company Registration No
A4: CLUSTER 11
A5: Sekhukhune District Office
A6: Day Shift
A7: Description | B7: No of Guards | C7: Rate Per guard | D7: Sub -Total | E7: 15% Vat | F7: Total Price
A8: Armed Security Guard | B8: 1 | D8: =B8*C8 -> 0 | E8: =D8*15% -> 0 | F8: =D8+E8 -> 0
A9: Unarmed Security Guard | B9: 1 | D9: =B9*C9 -> 0 | E9: =D9*15% -> 0 | F9: =D9+E9 -> 0
A10: Night Shift
A11: Armed Security Guard | B11: 1 | D11: =B11*C11 -> 0 | E11: =D11*15% -> 0 | F11: =D11+E11 -> 0
A12: Unarmed Security Guard | B12: 1 | D12: =B12*C12 -> 0 | E12: =D12*15% -> 0 | F12: =D12+E12 -> 0
A13: Total per month | B13: 4 | F13: =F8+F9+F11+F12 -> 0
A14: Tubatse Child And Youth Care Centre
A15: Day Shift
A16: Description | B16: No of Guards | C16: Rate Per guard | D16: Sub -Total | E16: 15% Vat | F16: Total Price
A17: Armed Security Guard | B17: 2 | D17: =B17*C17 -> 0 | E17: =D17*15% -> 0 | F17: =D17+E17 -> 0
A18: Unarmed Security Guard | B18: 2 | D18: =B18*C18 -> 0 | E18: =D18*15% -> 0 | F18: =D18+E18 -> 0
A19: Night Shift
A20: Armed Security Guard | B20: 2 | D20: =B20*C20 -> 0 | E20: =D20*15% -> 0 | F20: =D20+E20 -> 0
A21: Unarmed Security Guard | B21: 2 | D21: =B21*C21 -> 0 | E21: =D21*15% -> 0 | F21: =D21+E21 -> 0
A22: Total per month | B22: 8 | F22: =F17+F18+F20+F21 -> 0
A23: Praktiseer One-Stop Centre
A24: Day Shift
A25: Description | B25: No of Guards | C25: Rate Per guard | D25: Sub -Total | E25: 15% Vat | F25: Total Price
A26: Armed Security Guard | B26: 1 | D26: =B26*C26 -> 0 | E26: =D26*15% -> 0 | F26: =D26+E26 -> 0
A27: Unarmed Security Guard | B27: 1 | D27: =B27*C27 -> 0 | E27: =D27*15% -> 0 | F27: =D27+E27 -> 0
A28: Night Shift
A29: Armed Security Guard | B29: 1 | D29: =B29*C29 -> 0 | E29: =D29*15% -> 0 | F29: =D29+E29 -> 0
A30: Unarmed Security Guard | B30: 1 | D30: =B30*C30 -> 0 | E30: =D30*15% -> 0 | F30: =D30+E30 -> 0
A31: Total per month | B31: 4 | F31: =F26+F27+F29+F30 -> 0
A32: Phasha Selatole One-Stop Centre
A33: Day Shift
A34: Description | B34: No of Guards | C34: Rate Per guard | D34: Sub -Total | E34: 15% Vat | F34: Total Price
A35: Armed Security Guard | B35: 1 | D35: =B35*C35 -> 0 | E35: =D35*15% -> 0 | F35: =D35+E35 -> 0
A36: Unarmed Security Guard | B36: 1 | D36: =B36*C36 -> 0 | E36: =D36*15% -> 0 | F36: =D36+E36 -> 0
A37: Night Shift
A38: Armed Security Guard | B38: 1 | D38: =B38*C38 -> 0 | E38: =D38*15% -> 0 | F38: =D38+E38 -> 0
A39: Unarmed Security Guard | B39: 1 | D39: =B39*C39 -> 0 | E39: =D39*15% -> 0 | F39: =D39+E39 -> 0
A40: Total per month | B40: 4 | F40: =F35+F36+F38+F39 -> 0
A41: TOTAL CLUSTER ELEVEN(11) BID PRICE | F41: =F13+F22+F31+F40 -> 0

Sheet Cluster 12
A1: Name of the Company
A2: Bid Number | B2: DSDP 05/25-19/25
A3: Company Registration No
A4: CLUSTER 12
A5: Phagameng One-Stop Centre
A6: Day Shift
A7: Description | B7: No of Guards | C7: Rate Per guard | D7: Sub -Total | E7: 15% Vat | F7: Total Price
A8: Armed Security Guards | B8: 1 | D8: =B8*C8 -> 0 | E8: =D8*15% -> 0 | F8: =D8+E8 -> 0
A9: Unarmed Security Guards | B9: 1 | D9: =B9*C9 -> 0 | E9: =D9*15% -> 0 | F9: =D9+E9 -> 0
A10: Night Shift
A11: Armed Security office | B11: 1 | D11: =B11*C11 -> 0 | E11: =D11*15% -> 0 | F11: =D11+E11 -> 0
A12: Unarmed Security Officer | B12: 1 | D12: =B12*C12 -> 0 | E12: =D12*15% -> 0 | F12: =D12+E12 -> 0
A13: Total per month | B13: 4 | F13: =F8+F9+F11+F12 -> 0
A14: Bela-Bela One-Stop Centre
A15: Day Shift
A16: Description | B16: No of Guards | C16: Rate Per guard | D16: Sub -Total | E16: 15% Vat | F16: Total Price
A17: Armed Security Guards | B17: 1 | D17: =B17*C17 -> 0 | E17: =D17*15% -> 0 | F17: =D17+E17 -> 0
A18: Unarmed Security Guards | B18: 1 | D18: =B18*C18 -> 0 | E18: =D18*15% -> 0 | F18: =D18+E18 -> 0
A19: Night Shift
A20: Armed Security office | B20: 1 | D20: =B20*C20 -> 0 | E20: =D20*15% -> 0 | F20: =D20+E20 -> 0
A21: Unarmed Security Officer | B21: 1 | D21: =B21*C21 -> 0 | E21: =D21*15% -> 0 | F21: =D21+E21 -> 0
A22: Total per month | B22: 4 | F22: =F17+F18+F20+F21 -> 0
A23: Mookgopong One Stop Centre
A24: Day Shift
A25: Description | B25: No of Guards | C25: Rate Per guard | D25: Sub -Total | E25: 15% Vat | F25: Total Price
A26: Armed Security Guards | B26: 1 | D26: =B26*C26 -> 0 | E26: =D26*15% -> 0 | F26: =D26+E26 -> 0
A27: Unarmed Security Guards | B27: 1 | D27: =B27*C27 -> 0 | E27: =D27*15% -> 0 | F27: =D27+E27 -> 0
A28: Night Shift
A29: Armed Security office | B29: 1 | D29: =B29*C29 -> 0 | E29: =D29*15% -> 0 | F29: =D29+E29 -> 0
A30: Unarmed Security Officer | B30: 1 | D30: =B30*C30 -> 0 | E30: =D30*15% -> 0 | F30: =D30+E30 -> 0
A31: Total per month | B31: 4 | F31: =F26+F27+F29+F30 -> 0
A32: Thabazimbi One Stop Centre
A33: Day Shift
A34: Description | B34: No of Guards | C34: Rate Per guard | D34: Sub -Total | E34: 15% Vat | F34: Total Price
A35: Armed Security Guards | B35: 1 | D35: =B35*C35 -> 0 | E35: =D35*15% -> 0 | F35: =D35+E35 -> 0
A36: Unarmed Security Guards | B36: 1 | D36: =B36*C36 -> 0 | E36: =D36*15% -> 0 | F36: =D36+E36 -> 0
A37: Night Shift
A38: Armed Security office | B38: 1 | D38: =B38*C38 -> 0 | E38: =D38*15% -> 0 | F38: =D38+E38 -> 0
A39: Unarmed Security Officer | B39: 1 | D39: =B39*C39 -> 0 | E39: =D39*15% -> 0 | F39: =D39+E39 -> 0
A40: Total per month | B40: 4 | F40: =F35+F36+F38+F39 -> 0
A41: Mahwelereng Social Development Office
A42: Day Shift
A43: Description | B43: No of Guards | C43: Rate Per guard | D43: Sub -Total | E43: 15% Vat | F43: Total Price
A44: Armed Security Guards | B44: 1 | D44: =B44*C44 -> 0 | E44: =D44*15% -> 0 | F44: =D44+E44 -> 0
A45: Unarmed Security Guards | B45: 1 | D45: =B45*C45 -> 0 | E45: =D45*15% -> 0 | F45: =D45+E45 -> 0
A46: Night Shift
A47: Armed Security office | B47: 1 | D47: =B47*C47 -> 0 | E47: =D47*15% -> 0 | F47: =D47+E47 -> 0
A48: Unarmed Security Officer | B48: 1 | D48: =B48*C48 -> 0 | E48: =D48*15% -> 0 | F48: =D48+E48 -> 0
A49: Total per month | B49: 4 | F49: =F44+F45+F47+F48 -> 0
A50: TOTAL CLUSTER ONE TWELVE (12) PRICE | F50: =F13+F22+F31+F40+F49 -> 0

Sheet Cluster 13
A1: Name of the Company
A2: Bid Number | B2: DSDP 05/25-19/25
A3: Company Registration No
A4: CLUSTER 13
A5: Kgapane One-Stop Centre
A6: Day Shift
A7: Description | B7: No of Guards | C7: Rate Per guard | D7: Sub -Total | E7: 15% Vat | F7: Total Price
A8: Armed Security Guard | B8: 1 | D8: =B8*C8 -> 0 | E8: =D8*15% -> 0 | F8: =D8+E8 -> 0
A9: Unarmed Security Guard | B9: 1 | D9: =B9*C9 -> 0 | E9: =D9*15% -> 0 | F9: =D9+E9 -> 0
A10: Night Shift
A11: Armed Security Guard | B11: 1 | D11: =B11*C11 -> 0 | E11: =D11*15% -> 0 | F11: =D11+E11 -> 0
A12: Unarmed Security Guard | B12: 1 | D12: =B12*C12 -> 0 | E12: =D12*15% -> 0 | F12: =D12+E12 -> 0
A13: Total per month | B13: 4 | F13: =F8+F9+F11+F12 -> 0
A14: Lebaka Sub Offices
A15: Day Shift
A16: Description | B16: No of Guards | C16: Rate Per guard | D16: Sub -Total | E16: 15% Vat | F16: Total Price
A17: Armed Security Guard | B17: 1 | D17: =B17*C17 -> 0 | E17: =D17*15% -> 0 | F17: =D17+E17 -> 0
A18: Unarmed Security Guard | B18: 1 | D18: =B18*C18 -> 0 | E18: =D18*15% -> 0 | F18: =D18+E18 -> 0
A19: Night Shift
A20: Armed Security Guard | B20: 1 | D20: =B20*C20 -> 0 | E20: =D20*15% -> 0 | F20: =D20+E20 -> 0
A21: Unarmed Security Guard | B21: 1 | D21: =B21*C21 -> 0 | E21: =D21*15% -> 0 | F21: =D21+E21 -> 0
A22: Total per month | B22: 4 | F22: =F17+F18+F20+F21 -> 0
A23: Vukuzenzele Community Based Rehabilitation Centre
A24: Day Shift
A25: Description | B25: No of Guards | C25: Rate Per guard | D25: Sub -Total | E25: 15% Vat | F25: Total Price
A26: Armed Security Guard | B26: 1 | D26: =B26*C26 -> 0 | E26: =D26*15% -> 0 | F26: =D26+E26 -> 0
A27: Unarmed Security Guard | B27: 1 | D27: =B27*C27 -> 0 | E27: =D27*15% -> 0 | F27: =D27+E27 -> 0
A28: Night Shift
A29: Armed Security Guard | B29: 1 | D29: =B29*C29 -> 0 | E29: =D29*15% -> 0 | F29: =D29+E29 -> 0
A30: Unarmed Security Guard | B30: 1 | D30: =B30*C30 -> 0 | E30: =D30*15% -> 0 | F30: =D30+E30 -> 0
A31: Total per month | B31: 4 | F31: =F26+F27+F29+F30 -> 0
A32: Dr. CN Phatudi One-Stop Centre
A33: Day Shift
A34: Description | B34: No of Guards | C34: Rate Per guard | D34: Sub -Total | E34: 15% Vat | F34: Total Price
A35: Armed Security Guard | B35: 1 | D35: =B35*C35 -> 0 | E35: =D35*15% -> 0 | F35: =D35+E35 -> 0
A36: Unarmed Security Guard | B36: 1 | D36: =B36*C36 -> 0 | E36: =D36*15% -> 0 | F36: =D36+E36 -> 0
A37: Night Shift
A38: Armed Security Guard | B38: 1 | D38: =B38*C38 -> 0 | E38: =D38*15% -> 0 | F38: =D38+E38 -> 0
A39: Unarmed Security Guard | B39: 1 | D39: =B39*C39 -> 0 | E39: =D39*15% -> 0 | F39: =D39+E39 -> 0
A40: Total per month | B40: 4 | F40: =F35+F36+F38+F39 -> 0
A41: Nkowankowa Office
A42: Day Shift
A43: Description | B43: No of Guards | C43: Rate Per guard | D43: Sub -Total | E43: 15% Vat | F43: Total Price
A44: Armed Security Guard | B44: 1 | D44: =B44*C44 -> 0 | E44: =D44*15% -> 0 | F44: =D44+E44 -> 0
A45: Night Shift
A46: Armed Security Guard | B46: 1 | D46: =B46*C46 -> 0 | E46: =D46*15% -> 0 | F46: =D46+E46 -> 0
A47: Total per month | B47: =B44+B46 -> 2 | F47: =F44+F46 -> 0
A48: TOTAL CLUSTER THIRTEEN (13) BID PRICE | F48: =F13+F22+F31+F40+F47 -> 0

Sheet Cluster 14
A1: Name of the Company
A2: Bid Number | B2: DSDP 05/25-19/25
A3: Company Registration No
A4: CLUSTER 14
A5: Bakenberg One-Stop Centre
A6: Day Shift
A7: Description | B7: No of Guards | C7: Rate Per guard | D7: Sub -Total | E7: 15% Vat | F7: Total Price
A8: Armed Security Guards | B8: 1 | D8: =B8*C8 -> 0 | E8: =D8*15% -> 0 | F8: =D8+E8 -> 0
A9: Unarmed Security Guards | B9: 1 | D9: =B9*C9 -> 0 | E9: =D9*15% -> 0 | F9: =D9+E9 -> 0
A10: Night Shift
A11: Armed Security office | B11: 1 | D11: =B11*C11 -> 0 | E11: =D11*15% -> 0 | F11: =D11+E11 -> 0
A12: Unarmed Security Officer | B12: 1 | D12: =B12*C12 -> 0 | E12: =D12*15% -> 0 | F12: =D12+E12 -> 0
A13: Total per month | B13: 4 | F13: =F8+F9+F11+F12 -> 0
A14: Lephalale Social Development Office
A15: Day Shift
A16: Description | B16: No of Guards | C16: Rate Per guard | D16: Sub -Total | E16: 15% Vat | F16: Total Price
A17: Armed Security Guards | B17: 1 | D17: =B17*C17 -> 0 | E17: =D17*15% -> 0 | F17: =D17+E17 -> 0
A18: Unarmed Security Guards | B18: 1 | D18: =B18*C18 -> 0 | E18: =D18*15% -> 0 | F18: =D18+E18 -> 0
A19: Night Shift
A20: Armed Security office | B20: 1 | D20: =B20*C20 -> 0 | E20: =D20*15% -> 0 | F20: =D20+E20 -> 0
A21: Unarmed Security Officer | B21: 1 | D21: =B21*C21 -> 0 | E21: =D21*15% -> 0 | F21: =D21+E21 -> 0
A22: Total per month | B22: 4 | F22: =F17+F18+F20+F21 -> 0
A23: Witpoort/Phalala One Stop Centre
A24: Day Shift
A25: Description | B25: No of Guards | C25: Rate Per guard | D25: Sub -Total | E25: 15% Vat | F25: Total Price
A26: Armed Security Guards | B26: 1 | D26: =B26*C26 -> 0 | E26: =D26*15% -> 0 | F26: =D26+E26 -> 0
A27: Unarmed Security Guards | B27: 1 | D27: =B27*C27 -> 0 | E27: =D27*15% -> 0 | F27: =D27+E27 -> 0
A28: Night Shift
A29: Armed Security office | B29: 1 | D29: =B29*C29 -> 0 | E29: =D29*15% -> 0 | F29: =D29+E29 -> 0
A30: Unarmed Security Officer | B30: 1 | D30: =B30*C30 -> 0 | E30: =D30*15% -> 0 | F30: =D30+E30 -> 0
A31: Total per month | B31: 4 | F31: =F26+F27+F29+F30 -> 0
A32: Taueatswala Community Care Centre
A33: Day Shift
A34: Description | B34: No of Guards | C34: Rate Per guard | D34: Sub -Total | E34: 15% Vat | F34: Total Price
A35: Armed Security Guards | B35: 1 | D35: =B35*C35 -> 0 | E35: =D35*15% -> 0 | F35: =D35+E35 -> 0
A36: Unarmed Security Guards | B36: 2 | D36: =B36*C36 -> 0 | E36: =D36*15% -> 0 | F36: =D36+E36 -> 0
A37: Night Shift
A38: Armed Security office | B38: 1 | D38: =B38*C38 -> 0 | E38: =D38*15% -> 0 | F38: =D38+E38 -> 0
A39: Unarmed Security Officer | B39: 2 | D39: =B39*C39 -> 0 | E39: =D39*15% -> 0 | F39: =D39+E39 -> 0
A40: Total per month | B40: =B35+B36+B38+B39 -> 6 | F40: =F35+F36+F38+F39 -> 0
A41: TOTAL CLUSTER FOURTEEN(14) BID PRICE | F41: =F13+F22+F31+F40 -> 0

Sheet Cluster 15
A1: Name of the Company
A2: Bid Number | B2: DSDP 05/25-19/25
A3: Company Registration No
A4: CLUSTER 15
A5: Namakgale One-Stop Centre
A6: Day Shift
A7: Description | B7: No of Guards | C7: Rate Per guard | D7: Sub -Total | E7: 15% Vat | F7: Total Price
A8: Armed Security Guard | B8: 1 | D8: =B8*C8 -> 0 | E8: =D8*15% -> 0 | F8: =D8+E8 -> 0
A9: Unarmed Security Guard | B9: 1 | D9: =B9*C9 -> 0 | E9: =D9*15% -> 0 | F9: =D9+E9 -> 0
A10: Night Shift
A11: Armed Security Guard | B11: 1 | D11: =B11*C11 -> 0 | E11: =D11*15% -> 0 | F11: =D11+E11 -> 0
A12: Unarmed Security Guard | B12: 1 | D12: =B12*C12 -> 0 | E12: =D12*15% -> 0 | F12: =D12+E12 -> 0
A13: Total per month | B13: 4 | F13: =F8+F9+F11+F12 -> 0
A14: Bonn Community Care Centre
A15: Day Shift
A16: Description | B16: No of Guards | C16: Rate Per guard | D16: Sub -Total | E16: 15% Vat | F16: Total Price
A17: Armed Security Guard | B17: 1 | D17: =B17*C17 -> 0 | E17: =D17*15% -> 0 | F17: =D17+E17 -> 0
A18: Unarmed Security Guard | B18: 1 | D18: =B18*C18 -> 0 | E18: =D18*15% -> 0 | F18: =D18+E18 -> 0
A19: Night Shift
A20: Armed Security Guard | B20: 1 | D20: =B20*C20 -> 0 | E20: =D20*15% -> 0 | F20: =D20+E20 -> 0
A21: Unarmed Security Guard | B21: 1 | D21: =B21*C21 -> 0 | E21: =D21*15% -> 0 | F21: =D21+E21 -> 0
A22: Total per month | B22: 4 | F22: =F17+F18+F20+F21 -> 0
A23: Senwamokgope Social Development Office
A24: Day Shift
A25: Description | B25: No of Guards | C25: Rate Per guard | D25: Sub -Total | E25: 15% Vat | F25: Total Price
A26: Armed Security Guard | B26: 1 | D26: =B26*C26 -> 0 | E26: =D26*15% -> 0 | F26: =D26+E26 -> 0
A27: Unarmed Security Guard | B27: 1 | D27: =B27*C27 -> 0 | E27: =D27*15% -> 0 | F27: =D27+E27 -> 0
A28: Night Shift
A29: Armed Security Guard | B29: 1 | D29: =B29*C29 -> 0 | E29: =D29*15% -> 0 | F29: =D29+E29 -> 0
A30: Unarmed Security Guard | B30: 1 | D30: =B30*C30 -> 0 | E30: =D30*15% -> 0 | F30: =D30+E30 -> 0
A31: Total per month | B31: 4 | F31: =F26+F27+F29+F30 -> 0
A32: Giyani Social Development Storeroom
A33: Day Shift
A34: Description | B34: No of Guards | C34: Rate Per guard | D34: Sub -Total | E34: 15% Vat | F34: Total Price
A35: Armed Security Guard | B35: 1 | D35: =B35*C35 -> 0 | E35: =D35*15% -> 0 | F35: =D35+E35 -> 0
A36: Unarmed Security Guard | B36: 1 | D36: =B36*C36 -> 0 | E36: =D36*15% -> 0 | F36: =D36+E36 -> 0
A37: Night Shift
A38: Armed Security Guard | B38: 1 | D38: =B38*C38 -> 0 | E38: =D38*15% -> 0 | F38: =D38+E38 -> 0
A39: Unarmed Security Guard | B39: 1 | D39: =B39*C39 -> 0 | E39: =D39*15% -> 0 | F39: =D39+E39 -> 0
A40: Total per month | B40: 4 | F40: =F35+F36+F38+F39 -> 0
A41: TOTAL CLUSTER FIFTEEEN(15) BID PRICE | F41: =F13+F22+F31+F40 -> 0

Sheet Total bid price
A2: Name of the Company
A3: Bid Number | C3: DSDP 05/25-19/25
A4: Company Registration No
A5: No | B5: Cluster | C5: Bid Price
A6: 1 | B6: Cluster 1 Bid Price | C6: ='Cluster 1'!F27 -> 0
A7: 2 | B7: Cluster 2 Bid Price | C7: ='Cluster 2'!F77 -> 0
A8: 3 | B8: Cluster 3 Bid Price | C8: ='cluster 3'!F76 -> 0
A9: 4 | B9: Cluster 4 Bid Price | C9: ='cluster 4'!F41 -> 0
A10: 5 | B10: Cluster 5 Bid Price | C10: ='cluster 5'!F59 -> 0
A11: 6 | B11: Cluster 6 Bid Price | C11: ='Cluster 8'!F50 -> 0
A12: 7 | B12: Cluster 7 Bid Price | C12: ='Cluster 7'!F59 -> 0
A13: 8 | B13: Cluster 8 Bid Price | C13: ='Cluster 8'!F50 -> 0
A14: 9 | B14: Cluster 9 Bid Price | C14: ='Cluster 9'!F50 -> 0
A15: 10 | B15: Cluster 10 Bid Price | C15: ='Cluster 10'!F14 -> 0
A16: 11 | B16: Cluster 11 Bid Price | C16: ='Cluster 10'!F14 -> 0
A17: 12 | B17: Cluster 12 Bid Price | C17: ='Cluster 12'!F50 -> 0
A18: 13 | B18: Cluster 13 Bid Price | C18: ='Cluster 13'!F48 -> 0
A19: 14 | B19: Cluster 14 Bid Price | C19: ='Cluster 14'!F41 -> 0
A20: 15 | B20: Cluster 15 Bid Price | C20: ='Cluster 15'!F41 -> 0
A21: Total Bid Price | C21: =SUM(C6:C20) -> 0
